BEGIN:VCALENDAR
VERSION:2.0
PRODID:-// - ECPv6.15.20//NONSGML v1.0//EN
CALSCALE:GREGORIAN
METHOD:PUBLISH
X-ORIGINAL-URL:https://hstreet.org
X-WR-CALDESC:Events for 
REFRESH-INTERVAL;VALUE=DURATION:PT1H
X-Robots-Tag:noindex
X-PUBLISHED-TTL:PT1H
BEGIN:VTIMEZONE
TZID:UTC
BEGIN:STANDARD
TZOFFSETFROM:+0000
TZOFFSETTO:+0000
TZNAME:UTC
DTSTART:20230101T000000
END:STANDARD
END:VTIMEZONE
BEGIN:VEVENT
DTSTART;TZID=UTC:20240609T160000
DTEND;TZID=UTC:20240609T170000
DTSTAMP:20260421T084713
CREATED:20240530T144844Z
LAST-MODIFIED:20240530T145318Z
UID:10000040-1717948800-1717952400@hstreet.org
SUMMARY:Retellings Book Club - A Sweet Sting of Salt & Roxy and Coco
DESCRIPTION:Once a young woman uncovers a dark secret about her neighbor and his mysterious new wife\, she’ll have to fight to keep herself—and the woman she loves—safe in this stunning queer reimagining of the classic folktale The Selkie Wife.
URL:https://hstreet.org/event/retellings-book-club-a-sweet-sting-of-salt-roxy-and-coco/
LOCATION:Solid State Books DC\, 600 H Street Northeast\, Washington\, DC\, 20002\, United States
ATTACH;FMTTYPE=image/png:https://hstreet.org/wp-content/uploads/2024/05/sweetSting-1.png
END:VEVENT
BEGIN:VEVENT
DTSTART;TZID=UTC:20240608T150000
DTEND;TZID=UTC:20240608T160000
DTSTAMP:20260421T084713
CREATED:20240530T140223Z
LAST-MODIFIED:20240606T021036Z
UID:10000029-1717858800-1717862400@hstreet.org
SUMMARY:Ella Dawson - But How Are You Really
DESCRIPTION:Join SSB in welcoming Ella Dawson\, celebrating the release of their new book\, But How Are You Really\, in discussion w/ Andie J. Christopher. Please RSVP here\, and get yourself a book & a seat!
URL:https://hstreet.org/event/ella-dawson-but-how-are-you-really/
LOCATION:Solid State Books DC\, 600 H Street Northeast\, Washington\, DC\, 20002\, United States
ATTACH;FMTTYPE=image/png:https://hstreet.org/wp-content/uploads/2024/05/but-how-are-you-really.png
END:VEVENT
BEGIN:VEVENT
DTSTART;TZID=UTC:20240530T180000
DTEND;TZID=UTC:20240530T200000
DTSTAMP:20260421T084713
CREATED:20240530T134456Z
LAST-MODIFIED:20240530T134456Z
UID:10000028-1717092000-1717099200@hstreet.org
SUMMARY:Knits n' Yarn
DESCRIPTION:Come join us while we craft (knit\, crochet\, etc) while talking about what we’re reading\, or want to read.
URL:https://hstreet.org/event/knits-n-yarn/
LOCATION:Solid State Books DC\, 600 H Street Northeast\, Washington\, DC\, 20002\, United States
ATTACH;FMTTYPE=image/png:https://hstreet.org/wp-content/uploads/2024/05/Solid-State-Knits-1.png
END:VEVENT
END:VCALENDAR