BEGIN:VCALENDAR
VERSION:2.0
PRODID:-// - ECPv6.15.20//NONSGML v1.0//EN
CALSCALE:GREGORIAN
METHOD:PUBLISH
X-ORIGINAL-URL:https://hstreet.org
X-WR-CALDESC:Events for 
REFRESH-INTERVAL;VALUE=DURATION:PT1H
X-Robots-Tag:noindex
X-PUBLISHED-TTL:PT1H
BEGIN:VTIMEZONE
TZID:UTC
BEGIN:STANDARD
TZOFFSETFROM:+0000
TZOFFSETTO:+0000
TZNAME:UTC
DTSTART:20270101T000000
END:STANDARD
END:VTIMEZONE
BEGIN:VEVENT
DTSTART;TZID=UTC:20280115T093000
DTEND;TZID=UTC:20280115T123000
DTSTAMP:20260421T214337
CREATED:20260421T134953Z
LAST-MODIFIED:20260421T142229Z
UID:10000846-1831541400-1831552200@hstreet.org
SUMMARY:H Street NE Year-Round Market
DESCRIPTION:Launched in 2024\, this year-round Saturday market is more than a place to shop—it’s a neighborhood hub for fresh food\, local goods\, and community connection in the heart of H Street NE. Learn more.
URL:https://hstreet.org/event/h-street-ne-year-round-market/2028-01-15/
LOCATION:Fresh Farm\, 800 13th St NE\, Washington\, DC\, 20002
ATTACH;FMTTYPE=image/png:https://hstreet.org/wp-content/uploads/2025/07/H-St-Farmers-Market.png
END:VEVENT
BEGIN:VEVENT
DTSTART;TZID=UTC:20280122T093000
DTEND;TZID=UTC:20280122T123000
DTSTAMP:20260421T214337
CREATED:20260421T134953Z
LAST-MODIFIED:20260421T142229Z
UID:10000847-1832146200-1832157000@hstreet.org
SUMMARY:H Street NE Year-Round Market
DESCRIPTION:Launched in 2024\, this year-round Saturday market is more than a place to shop—it’s a neighborhood hub for fresh food\, local goods\, and community connection in the heart of H Street NE. Learn more.
URL:https://hstreet.org/event/h-street-ne-year-round-market/2028-01-22/
LOCATION:Fresh Farm\, 800 13th St NE\, Washington\, DC\, 20002
ATTACH;FMTTYPE=image/png:https://hstreet.org/wp-content/uploads/2025/07/H-St-Farmers-Market.png
END:VEVENT
BEGIN:VEVENT
DTSTART;TZID=UTC:20280129T093000
DTEND;TZID=UTC:20280129T123000
DTSTAMP:20260421T214337
CREATED:20260421T134953Z
LAST-MODIFIED:20260421T142229Z
UID:10000848-1832751000-1832761800@hstreet.org
SUMMARY:H Street NE Year-Round Market
DESCRIPTION:Launched in 2024\, this year-round Saturday market is more than a place to shop—it’s a neighborhood hub for fresh food\, local goods\, and community connection in the heart of H Street NE. Learn more.
URL:https://hstreet.org/event/h-street-ne-year-round-market/2028-01-29/
LOCATION:Fresh Farm\, 800 13th St NE\, Washington\, DC\, 20002
ATTACH;FMTTYPE=image/png:https://hstreet.org/wp-content/uploads/2025/07/H-St-Farmers-Market.png
END:VEVENT
BEGIN:VEVENT
DTSTART;TZID=UTC:20280205T093000
DTEND;TZID=UTC:20280205T123000
DTSTAMP:20260421T214337
CREATED:20260421T134953Z
LAST-MODIFIED:20260421T142229Z
UID:10000849-1833355800-1833366600@hstreet.org
SUMMARY:H Street NE Year-Round Market
DESCRIPTION:Launched in 2024\, this year-round Saturday market is more than a place to shop—it’s a neighborhood hub for fresh food\, local goods\, and community connection in the heart of H Street NE. Learn more.
URL:https://hstreet.org/event/h-street-ne-year-round-market/2028-02-05/
LOCATION:Fresh Farm\, 800 13th St NE\, Washington\, DC\, 20002
ATTACH;FMTTYPE=image/png:https://hstreet.org/wp-content/uploads/2025/07/H-St-Farmers-Market.png
END:VEVENT
BEGIN:VEVENT
DTSTART;TZID=UTC:20280212T093000
DTEND;TZID=UTC:20280212T123000
DTSTAMP:20260421T214337
CREATED:20260421T134953Z
LAST-MODIFIED:20260421T142229Z
UID:10000850-1833960600-1833971400@hstreet.org
SUMMARY:H Street NE Year-Round Market
DESCRIPTION:Launched in 2024\, this year-round Saturday market is more than a place to shop—it’s a neighborhood hub for fresh food\, local goods\, and community connection in the heart of H Street NE. Learn more.
URL:https://hstreet.org/event/h-street-ne-year-round-market/2028-02-12/
LOCATION:Fresh Farm\, 800 13th St NE\, Washington\, DC\, 20002
ATTACH;FMTTYPE=image/png:https://hstreet.org/wp-content/uploads/2025/07/H-St-Farmers-Market.png
END:VEVENT
BEGIN:VEVENT
DTSTART;TZID=UTC:20280219T093000
DTEND;TZID=UTC:20280219T123000
DTSTAMP:20260421T214337
CREATED:20260421T134953Z
LAST-MODIFIED:20260421T142229Z
UID:10000851-1834565400-1834576200@hstreet.org
SUMMARY:H Street NE Year-Round Market
DESCRIPTION:Launched in 2024\, this year-round Saturday market is more than a place to shop—it’s a neighborhood hub for fresh food\, local goods\, and community connection in the heart of H Street NE. Learn more.
URL:https://hstreet.org/event/h-street-ne-year-round-market/2028-02-19/
LOCATION:Fresh Farm\, 800 13th St NE\, Washington\, DC\, 20002
ATTACH;FMTTYPE=image/png:https://hstreet.org/wp-content/uploads/2025/07/H-St-Farmers-Market.png
END:VEVENT
BEGIN:VEVENT
DTSTART;TZID=UTC:20280226T093000
DTEND;TZID=UTC:20280226T123000
DTSTAMP:20260421T214337
CREATED:20260421T134953Z
LAST-MODIFIED:20260421T142229Z
UID:10000852-1835170200-1835181000@hstreet.org
SUMMARY:H Street NE Year-Round Market
DESCRIPTION:Launched in 2024\, this year-round Saturday market is more than a place to shop—it’s a neighborhood hub for fresh food\, local goods\, and community connection in the heart of H Street NE. Learn more.
URL:https://hstreet.org/event/h-street-ne-year-round-market/2028-02-26/
LOCATION:Fresh Farm\, 800 13th St NE\, Washington\, DC\, 20002
ATTACH;FMTTYPE=image/png:https://hstreet.org/wp-content/uploads/2025/07/H-St-Farmers-Market.png
END:VEVENT
BEGIN:VEVENT
DTSTART;TZID=UTC:20280304T093000
DTEND;TZID=UTC:20280304T123000
DTSTAMP:20260421T214337
CREATED:20260421T134953Z
LAST-MODIFIED:20260421T142229Z
UID:10000853-1835775000-1835785800@hstreet.org
SUMMARY:H Street NE Year-Round Market
DESCRIPTION:Launched in 2024\, this year-round Saturday market is more than a place to shop—it’s a neighborhood hub for fresh food\, local goods\, and community connection in the heart of H Street NE. Learn more.
URL:https://hstreet.org/event/h-street-ne-year-round-market/2028-03-04/
LOCATION:Fresh Farm\, 800 13th St NE\, Washington\, DC\, 20002
ATTACH;FMTTYPE=image/png:https://hstreet.org/wp-content/uploads/2025/07/H-St-Farmers-Market.png
END:VEVENT
BEGIN:VEVENT
DTSTART;TZID=UTC:20280311T093000
DTEND;TZID=UTC:20280311T123000
DTSTAMP:20260421T214337
CREATED:20260421T134953Z
LAST-MODIFIED:20260421T142229Z
UID:10000854-1836379800-1836390600@hstreet.org
SUMMARY:H Street NE Year-Round Market
DESCRIPTION:Launched in 2024\, this year-round Saturday market is more than a place to shop—it’s a neighborhood hub for fresh food\, local goods\, and community connection in the heart of H Street NE. Learn more.
URL:https://hstreet.org/event/h-street-ne-year-round-market/2028-03-11/
LOCATION:Fresh Farm\, 800 13th St NE\, Washington\, DC\, 20002
ATTACH;FMTTYPE=image/png:https://hstreet.org/wp-content/uploads/2025/07/H-St-Farmers-Market.png
END:VEVENT
BEGIN:VEVENT
DTSTART;TZID=UTC:20280318T093000
DTEND;TZID=UTC:20280318T123000
DTSTAMP:20260421T214337
CREATED:20260421T134953Z
LAST-MODIFIED:20260421T142229Z
UID:10000855-1836984600-1836995400@hstreet.org
SUMMARY:H Street NE Year-Round Market
DESCRIPTION:Launched in 2024\, this year-round Saturday market is more than a place to shop—it’s a neighborhood hub for fresh food\, local goods\, and community connection in the heart of H Street NE. Learn more.
URL:https://hstreet.org/event/h-street-ne-year-round-market/2028-03-18/
LOCATION:Fresh Farm\, 800 13th St NE\, Washington\, DC\, 20002
ATTACH;FMTTYPE=image/png:https://hstreet.org/wp-content/uploads/2025/07/H-St-Farmers-Market.png
END:VEVENT
BEGIN:VEVENT
DTSTART;TZID=UTC:20280325T093000
DTEND;TZID=UTC:20280325T123000
DTSTAMP:20260421T214337
CREATED:20260421T134953Z
LAST-MODIFIED:20260421T142229Z
UID:10000856-1837589400-1837600200@hstreet.org
SUMMARY:H Street NE Year-Round Market
DESCRIPTION:Launched in 2024\, this year-round Saturday market is more than a place to shop—it’s a neighborhood hub for fresh food\, local goods\, and community connection in the heart of H Street NE. Learn more.
URL:https://hstreet.org/event/h-street-ne-year-round-market/2028-03-25/
LOCATION:Fresh Farm\, 800 13th St NE\, Washington\, DC\, 20002
ATTACH;FMTTYPE=image/png:https://hstreet.org/wp-content/uploads/2025/07/H-St-Farmers-Market.png
END:VEVENT
BEGIN:VEVENT
DTSTART;TZID=UTC:20280401T093000
DTEND;TZID=UTC:20280401T123000
DTSTAMP:20260421T214337
CREATED:20260421T134953Z
LAST-MODIFIED:20260421T142229Z
UID:10000857-1838194200-1838205000@hstreet.org
SUMMARY:H Street NE Year-Round Market
DESCRIPTION:Launched in 2024\, this year-round Saturday market is more than a place to shop—it’s a neighborhood hub for fresh food\, local goods\, and community connection in the heart of H Street NE. Learn more.
URL:https://hstreet.org/event/h-street-ne-year-round-market/2028-04-01/
LOCATION:Fresh Farm\, 800 13th St NE\, Washington\, DC\, 20002
ATTACH;FMTTYPE=image/png:https://hstreet.org/wp-content/uploads/2025/07/H-St-Farmers-Market.png
END:VEVENT
BEGIN:VEVENT
DTSTART;TZID=UTC:20280408T093000
DTEND;TZID=UTC:20280408T123000
DTSTAMP:20260421T214337
CREATED:20260421T134953Z
LAST-MODIFIED:20260421T142229Z
UID:10000858-1838799000-1838809800@hstreet.org
SUMMARY:H Street NE Year-Round Market
DESCRIPTION:Launched in 2024\, this year-round Saturday market is more than a place to shop—it’s a neighborhood hub for fresh food\, local goods\, and community connection in the heart of H Street NE. Learn more.
URL:https://hstreet.org/event/h-street-ne-year-round-market/2028-04-08/
LOCATION:Fresh Farm\, 800 13th St NE\, Washington\, DC\, 20002
ATTACH;FMTTYPE=image/png:https://hstreet.org/wp-content/uploads/2025/07/H-St-Farmers-Market.png
END:VEVENT
BEGIN:VEVENT
DTSTART;TZID=UTC:20280415T093000
DTEND;TZID=UTC:20280415T123000
DTSTAMP:20260421T214337
CREATED:20260421T134953Z
LAST-MODIFIED:20260421T142229Z
UID:10000859-1839403800-1839414600@hstreet.org
SUMMARY:H Street NE Year-Round Market
DESCRIPTION:Launched in 2024\, this year-round Saturday market is more than a place to shop—it’s a neighborhood hub for fresh food\, local goods\, and community connection in the heart of H Street NE. Learn more.
URL:https://hstreet.org/event/h-street-ne-year-round-market/2028-04-15/
LOCATION:Fresh Farm\, 800 13th St NE\, Washington\, DC\, 20002
ATTACH;FMTTYPE=image/png:https://hstreet.org/wp-content/uploads/2025/07/H-St-Farmers-Market.png
END:VEVENT
BEGIN:VEVENT
DTSTART;TZID=UTC:20280422T093000
DTEND;TZID=UTC:20280422T123000
DTSTAMP:20260421T214337
CREATED:20260421T134953Z
LAST-MODIFIED:20260421T142229Z
UID:10000860-1840008600-1840019400@hstreet.org
SUMMARY:H Street NE Year-Round Market
DESCRIPTION:Launched in 2024\, this year-round Saturday market is more than a place to shop—it’s a neighborhood hub for fresh food\, local goods\, and community connection in the heart of H Street NE. Learn more.
URL:https://hstreet.org/event/h-street-ne-year-round-market/2028-04-22/
LOCATION:Fresh Farm\, 800 13th St NE\, Washington\, DC\, 20002
ATTACH;FMTTYPE=image/png:https://hstreet.org/wp-content/uploads/2025/07/H-St-Farmers-Market.png
END:VEVENT
BEGIN:VEVENT
DTSTART;TZID=UTC:20280429T093000
DTEND;TZID=UTC:20280429T123000
DTSTAMP:20260421T214337
CREATED:20260421T134953Z
LAST-MODIFIED:20260421T142229Z
UID:10000861-1840613400-1840624200@hstreet.org
SUMMARY:H Street NE Year-Round Market
DESCRIPTION:Launched in 2024\, this year-round Saturday market is more than a place to shop—it’s a neighborhood hub for fresh food\, local goods\, and community connection in the heart of H Street NE. Learn more.
URL:https://hstreet.org/event/h-street-ne-year-round-market/2028-04-29/
LOCATION:Fresh Farm\, 800 13th St NE\, Washington\, DC\, 20002
ATTACH;FMTTYPE=image/png:https://hstreet.org/wp-content/uploads/2025/07/H-St-Farmers-Market.png
END:VEVENT
BEGIN:VEVENT
DTSTART;TZID=UTC:20280506T093000
DTEND;TZID=UTC:20280506T123000
DTSTAMP:20260421T214337
CREATED:20260421T134953Z
LAST-MODIFIED:20260421T142229Z
UID:10000862-1841218200-1841229000@hstreet.org
SUMMARY:H Street NE Year-Round Market
DESCRIPTION:Launched in 2024\, this year-round Saturday market is more than a place to shop—it’s a neighborhood hub for fresh food\, local goods\, and community connection in the heart of H Street NE. Learn more.
URL:https://hstreet.org/event/h-street-ne-year-round-market/2028-05-06/
LOCATION:Fresh Farm\, 800 13th St NE\, Washington\, DC\, 20002
ATTACH;FMTTYPE=image/png:https://hstreet.org/wp-content/uploads/2025/07/H-St-Farmers-Market.png
END:VEVENT
BEGIN:VEVENT
DTSTART;TZID=UTC:20280513T093000
DTEND;TZID=UTC:20280513T123000
DTSTAMP:20260421T214337
CREATED:20260421T134953Z
LAST-MODIFIED:20260421T142229Z
UID:10000863-1841823000-1841833800@hstreet.org
SUMMARY:H Street NE Year-Round Market
DESCRIPTION:Launched in 2024\, this year-round Saturday market is more than a place to shop—it’s a neighborhood hub for fresh food\, local goods\, and community connection in the heart of H Street NE. Learn more.
URL:https://hstreet.org/event/h-street-ne-year-round-market/2028-05-13/
LOCATION:Fresh Farm\, 800 13th St NE\, Washington\, DC\, 20002
ATTACH;FMTTYPE=image/png:https://hstreet.org/wp-content/uploads/2025/07/H-St-Farmers-Market.png
END:VEVENT
BEGIN:VEVENT
DTSTART;TZID=UTC:20280520T093000
DTEND;TZID=UTC:20280520T123000
DTSTAMP:20260421T214337
CREATED:20260421T134953Z
LAST-MODIFIED:20260421T142229Z
UID:10000864-1842427800-1842438600@hstreet.org
SUMMARY:H Street NE Year-Round Market
DESCRIPTION:Launched in 2024\, this year-round Saturday market is more than a place to shop—it’s a neighborhood hub for fresh food\, local goods\, and community connection in the heart of H Street NE. Learn more.
URL:https://hstreet.org/event/h-street-ne-year-round-market/2028-05-20/
LOCATION:Fresh Farm\, 800 13th St NE\, Washington\, DC\, 20002
ATTACH;FMTTYPE=image/png:https://hstreet.org/wp-content/uploads/2025/07/H-St-Farmers-Market.png
END:VEVENT
BEGIN:VEVENT
DTSTART;TZID=UTC:20280527T093000
DTEND;TZID=UTC:20280527T123000
DTSTAMP:20260421T214337
CREATED:20260421T134953Z
LAST-MODIFIED:20260421T142229Z
UID:10000865-1843032600-1843043400@hstreet.org
SUMMARY:H Street NE Year-Round Market
DESCRIPTION:Launched in 2024\, this year-round Saturday market is more than a place to shop—it’s a neighborhood hub for fresh food\, local goods\, and community connection in the heart of H Street NE. Learn more.
URL:https://hstreet.org/event/h-street-ne-year-round-market/2028-05-27/
LOCATION:Fresh Farm\, 800 13th St NE\, Washington\, DC\, 20002
ATTACH;FMTTYPE=image/png:https://hstreet.org/wp-content/uploads/2025/07/H-St-Farmers-Market.png
END:VEVENT
BEGIN:VEVENT
DTSTART;TZID=UTC:20280603T093000
DTEND;TZID=UTC:20280603T123000
DTSTAMP:20260421T214337
CREATED:20260421T134953Z
LAST-MODIFIED:20260421T142229Z
UID:10000866-1843637400-1843648200@hstreet.org
SUMMARY:H Street NE Year-Round Market
DESCRIPTION:Launched in 2024\, this year-round Saturday market is more than a place to shop—it’s a neighborhood hub for fresh food\, local goods\, and community connection in the heart of H Street NE. Learn more.
URL:https://hstreet.org/event/h-street-ne-year-round-market/2028-06-03/
LOCATION:Fresh Farm\, 800 13th St NE\, Washington\, DC\, 20002
ATTACH;FMTTYPE=image/png:https://hstreet.org/wp-content/uploads/2025/07/H-St-Farmers-Market.png
END:VEVENT
BEGIN:VEVENT
DTSTART;TZID=UTC:20280610T093000
DTEND;TZID=UTC:20280610T123000
DTSTAMP:20260421T214337
CREATED:20260421T134953Z
LAST-MODIFIED:20260421T142229Z
UID:10000867-1844242200-1844253000@hstreet.org
SUMMARY:H Street NE Year-Round Market
DESCRIPTION:Launched in 2024\, this year-round Saturday market is more than a place to shop—it’s a neighborhood hub for fresh food\, local goods\, and community connection in the heart of H Street NE. Learn more.
URL:https://hstreet.org/event/h-street-ne-year-round-market/2028-06-10/
LOCATION:Fresh Farm\, 800 13th St NE\, Washington\, DC\, 20002
ATTACH;FMTTYPE=image/png:https://hstreet.org/wp-content/uploads/2025/07/H-St-Farmers-Market.png
END:VEVENT
BEGIN:VEVENT
DTSTART;TZID=UTC:20280617T093000
DTEND;TZID=UTC:20280617T123000
DTSTAMP:20260421T214337
CREATED:20260421T134953Z
LAST-MODIFIED:20260421T142229Z
UID:10000868-1844847000-1844857800@hstreet.org
SUMMARY:H Street NE Year-Round Market
DESCRIPTION:Launched in 2024\, this year-round Saturday market is more than a place to shop—it’s a neighborhood hub for fresh food\, local goods\, and community connection in the heart of H Street NE. Learn more.
URL:https://hstreet.org/event/h-street-ne-year-round-market/2028-06-17/
LOCATION:Fresh Farm\, 800 13th St NE\, Washington\, DC\, 20002
ATTACH;FMTTYPE=image/png:https://hstreet.org/wp-content/uploads/2025/07/H-St-Farmers-Market.png
END:VEVENT
BEGIN:VEVENT
DTSTART;TZID=UTC:20280624T093000
DTEND;TZID=UTC:20280624T123000
DTSTAMP:20260421T214337
CREATED:20260421T134953Z
LAST-MODIFIED:20260421T142229Z
UID:10000869-1845451800-1845462600@hstreet.org
SUMMARY:H Street NE Year-Round Market
DESCRIPTION:Launched in 2024\, this year-round Saturday market is more than a place to shop—it’s a neighborhood hub for fresh food\, local goods\, and community connection in the heart of H Street NE. Learn more.
URL:https://hstreet.org/event/h-street-ne-year-round-market/2028-06-24/
LOCATION:Fresh Farm\, 800 13th St NE\, Washington\, DC\, 20002
ATTACH;FMTTYPE=image/png:https://hstreet.org/wp-content/uploads/2025/07/H-St-Farmers-Market.png
END:VEVENT
BEGIN:VEVENT
DTSTART;TZID=UTC:20280701T093000
DTEND;TZID=UTC:20280701T123000
DTSTAMP:20260421T214337
CREATED:20260421T134953Z
LAST-MODIFIED:20260421T142229Z
UID:10000870-1846056600-1846067400@hstreet.org
SUMMARY:H Street NE Year-Round Market
DESCRIPTION:Launched in 2024\, this year-round Saturday market is more than a place to shop—it’s a neighborhood hub for fresh food\, local goods\, and community connection in the heart of H Street NE. Learn more.
URL:https://hstreet.org/event/h-street-ne-year-round-market/2028-07-01/
LOCATION:Fresh Farm\, 800 13th St NE\, Washington\, DC\, 20002
ATTACH;FMTTYPE=image/png:https://hstreet.org/wp-content/uploads/2025/07/H-St-Farmers-Market.png
END:VEVENT
BEGIN:VEVENT
DTSTART;TZID=UTC:20280708T093000
DTEND;TZID=UTC:20280708T123000
DTSTAMP:20260421T214337
CREATED:20260421T134953Z
LAST-MODIFIED:20260421T142229Z
UID:10000871-1846661400-1846672200@hstreet.org
SUMMARY:H Street NE Year-Round Market
DESCRIPTION:Launched in 2024\, this year-round Saturday market is more than a place to shop—it’s a neighborhood hub for fresh food\, local goods\, and community connection in the heart of H Street NE. Learn more.
URL:https://hstreet.org/event/h-street-ne-year-round-market/2028-07-08/
LOCATION:Fresh Farm\, 800 13th St NE\, Washington\, DC\, 20002
ATTACH;FMTTYPE=image/png:https://hstreet.org/wp-content/uploads/2025/07/H-St-Farmers-Market.png
END:VEVENT
BEGIN:VEVENT
DTSTART;TZID=UTC:20280715T093000
DTEND;TZID=UTC:20280715T123000
DTSTAMP:20260421T214337
CREATED:20260421T134953Z
LAST-MODIFIED:20260421T142229Z
UID:10000872-1847266200-1847277000@hstreet.org
SUMMARY:H Street NE Year-Round Market
DESCRIPTION:Launched in 2024\, this year-round Saturday market is more than a place to shop—it’s a neighborhood hub for fresh food\, local goods\, and community connection in the heart of H Street NE. Learn more.
URL:https://hstreet.org/event/h-street-ne-year-round-market/2028-07-15/
LOCATION:Fresh Farm\, 800 13th St NE\, Washington\, DC\, 20002
ATTACH;FMTTYPE=image/png:https://hstreet.org/wp-content/uploads/2025/07/H-St-Farmers-Market.png
END:VEVENT
BEGIN:VEVENT
DTSTART;TZID=UTC:20280722T093000
DTEND;TZID=UTC:20280722T123000
DTSTAMP:20260421T214337
CREATED:20260421T134953Z
LAST-MODIFIED:20260421T142229Z
UID:10000873-1847871000-1847881800@hstreet.org
SUMMARY:H Street NE Year-Round Market
DESCRIPTION:Launched in 2024\, this year-round Saturday market is more than a place to shop—it’s a neighborhood hub for fresh food\, local goods\, and community connection in the heart of H Street NE. Learn more.
URL:https://hstreet.org/event/h-street-ne-year-round-market/2028-07-22/
LOCATION:Fresh Farm\, 800 13th St NE\, Washington\, DC\, 20002
ATTACH;FMTTYPE=image/png:https://hstreet.org/wp-content/uploads/2025/07/H-St-Farmers-Market.png
END:VEVENT
BEGIN:VEVENT
DTSTART;TZID=UTC:20280729T093000
DTEND;TZID=UTC:20280729T123000
DTSTAMP:20260421T214337
CREATED:20260421T134953Z
LAST-MODIFIED:20260421T142229Z
UID:10000874-1848475800-1848486600@hstreet.org
SUMMARY:H Street NE Year-Round Market
DESCRIPTION:Launched in 2024\, this year-round Saturday market is more than a place to shop—it’s a neighborhood hub for fresh food\, local goods\, and community connection in the heart of H Street NE. Learn more.
URL:https://hstreet.org/event/h-street-ne-year-round-market/2028-07-29/
LOCATION:Fresh Farm\, 800 13th St NE\, Washington\, DC\, 20002
ATTACH;FMTTYPE=image/png:https://hstreet.org/wp-content/uploads/2025/07/H-St-Farmers-Market.png
END:VEVENT
BEGIN:VEVENT
DTSTART;TZID=UTC:20280805T093000
DTEND;TZID=UTC:20280805T123000
DTSTAMP:20260421T214337
CREATED:20260421T134953Z
LAST-MODIFIED:20260421T142229Z
UID:10000875-1849080600-1849091400@hstreet.org
SUMMARY:H Street NE Year-Round Market
DESCRIPTION:Launched in 2024\, this year-round Saturday market is more than a place to shop—it’s a neighborhood hub for fresh food\, local goods\, and community connection in the heart of H Street NE. Learn more.
URL:https://hstreet.org/event/h-street-ne-year-round-market/2028-08-05/
LOCATION:Fresh Farm\, 800 13th St NE\, Washington\, DC\, 20002
ATTACH;FMTTYPE=image/png:https://hstreet.org/wp-content/uploads/2025/07/H-St-Farmers-Market.png
END:VEVENT
END:VCALENDAR