BEGIN:VCALENDAR
VERSION:2.0
PRODID:-// - ECPv6.15.20//NONSGML v1.0//EN
CALSCALE:GREGORIAN
METHOD:PUBLISH
X-ORIGINAL-URL:https://hstreet.org
X-WR-CALDESC:Events for 
REFRESH-INTERVAL;VALUE=DURATION:PT1H
X-Robots-Tag:noindex
X-PUBLISHED-TTL:PT1H
BEGIN:VTIMEZONE
TZID:UTC
BEGIN:STANDARD
TZOFFSETFROM:+0000
TZOFFSETTO:+0000
TZNAME:UTC
DTSTART:20250101T000000
END:STANDARD
END:VTIMEZONE
BEGIN:VEVENT
DTSTART;TZID=UTC:20260411T093000
DTEND;TZID=UTC:20260411T123000
DTSTAMP:20260421T183006
CREATED:20260421T134953Z
LAST-MODIFIED:20260421T142229Z
UID:10000754-1775899800-1775910600@hstreet.org
SUMMARY:H Street NE Year-Round Market
DESCRIPTION:Launched in 2024\, this year-round Saturday market is more than a place to shop—it’s a neighborhood hub for fresh food\, local goods\, and community connection in the heart of H Street NE. Learn more.
URL:https://hstreet.org/event/h-street-ne-year-round-market/2026-04-11/
LOCATION:Fresh Farm\, 800 13th St NE\, Washington\, DC\, 20002
ATTACH;FMTTYPE=image/png:https://hstreet.org/wp-content/uploads/2025/07/H-St-Farmers-Market.png
END:VEVENT
BEGIN:VEVENT
DTSTART;TZID=UTC:20260418T093000
DTEND;TZID=UTC:20260418T123000
DTSTAMP:20260421T183006
CREATED:20260421T134953Z
LAST-MODIFIED:20260421T142229Z
UID:10000755-1776504600-1776515400@hstreet.org
SUMMARY:H Street NE Year-Round Market
DESCRIPTION:Launched in 2024\, this year-round Saturday market is more than a place to shop—it’s a neighborhood hub for fresh food\, local goods\, and community connection in the heart of H Street NE. Learn more.
URL:https://hstreet.org/event/h-street-ne-year-round-market/2026-04-18/
LOCATION:Fresh Farm\, 800 13th St NE\, Washington\, DC\, 20002
ATTACH;FMTTYPE=image/png:https://hstreet.org/wp-content/uploads/2025/07/H-St-Farmers-Market.png
END:VEVENT
BEGIN:VEVENT
DTSTART;TZID=UTC:20260422T140000
DTEND;TZID=UTC:20260422T150000
DTSTAMP:20260421T183006
CREATED:20260421T135955Z
LAST-MODIFIED:20260421T135955Z
UID:10000739-1776866400-1776870000@hstreet.org
SUMMARY:H STREET ROUNDTABLE
DESCRIPTION:Join Commander Hall & the First District Team for the post-roundtable meeting walk addressing the concerns of businesses\, real estate owners & management\, community organizations and stakeholders. \n\n\n\n\nWednesday\, April 22\, 2026 \n2pm – 3pm \n\n\n1207 H Street NE \nRSVP Here: https://hstreet.wufoo.com/forms/z3sf3i00s1xw8o/
URL:https://hstreet.org/event/h-street-roundtable-2/
LOCATION:1207 H Street NE\, Washington\, DC\, 20002
CATEGORIES:Meetings
ATTACH;FMTTYPE=image/png:https://hstreet.org/wp-content/uploads/2026/01/H-STREET-ROUNDTABLE-INVITATION.png
END:VEVENT
BEGIN:VEVENT
DTSTART;TZID=UTC:20260422T180000
DTEND;TZID=UTC:20260422T200000
DTSTAMP:20260421T183006
CREATED:20260417T185550Z
LAST-MODIFIED:20260417T185550Z
UID:10000709-1776880800-1776888000@hstreet.org
SUMMARY:Mediterranean Floral Workshop with Casa Rosario
DESCRIPTION:To celebrate the new menu\, the Mediterranean bistro is teaming up with the locally based and woman-owned floral studio\, Casa Rosario. On April 22nd from 6 to 8pm\, guests are invited to join Tiffany’s for a special Mediterranean-inspired flower arranging workshop guided by the owner and founder of Casa Rosario. \nDuring the event\, participants can enjoy a new cocktail or mocktail while sampling a few mezze dishes from the new menu on the restaurant’s garden-inspired patio (weather permitting). Guests who order additional food and drink throughout and/or following the workshop will receive 10% off their total check. \nTickets are available for $104.20 (plus tax) and can be purchased on Resy. \nThe Tiffany’s Bar & Bistro spring menu will be available beginning on April 17th. The full menu can be found on Tiffany’s website.
URL:https://hstreet.org/event/mediterranean-floral-workshop-with-casa-rosario/
LOCATION:Tiffany’s Bar & Bistro\, 709 H Street NE\, Washington\, DC\, 20002
CATEGORIES:Events
ATTACH;FMTTYPE=image/png:https://hstreet.org/wp-content/uploads/2026/04/Screenshot-2026-04-14-at-2.31.29-PM.png
END:VEVENT
BEGIN:VEVENT
DTSTART;TZID=UTC:20260425T093000
DTEND;TZID=UTC:20260425T123000
DTSTAMP:20260421T183006
CREATED:20260421T134953Z
LAST-MODIFIED:20260421T142229Z
UID:10000756-1777109400-1777120200@hstreet.org
SUMMARY:H Street NE Year-Round Market
DESCRIPTION:Launched in 2024\, this year-round Saturday market is more than a place to shop—it’s a neighborhood hub for fresh food\, local goods\, and community connection in the heart of H Street NE. Learn more.
URL:https://hstreet.org/event/h-street-ne-year-round-market/2026-04-25/
LOCATION:Fresh Farm\, 800 13th St NE\, Washington\, DC\, 20002
ATTACH;FMTTYPE=image/png:https://hstreet.org/wp-content/uploads/2025/07/H-St-Farmers-Market.png
END:VEVENT
BEGIN:VEVENT
DTSTART;TZID=UTC:20260428T100000
DTEND;TZID=UTC:20260428T143000
DTSTAMP:20260421T183006
CREATED:20260421T125049Z
LAST-MODIFIED:20260421T142408Z
UID:10000710-1777370400-1777386600@hstreet.org
SUMMARY:DLCP Business Diagnostic Check
DESCRIPTION:The Department of Licensing and Consumer Protection’s Business Resource Center is here to help you assess exactly where you are on the business success ladder. \nDuring this in-person session\, the DLCP Business Resource Center (BRC) staff will provide one-on-one assistance in navigating the regulatory process. You will gain in-depth knowledge about registering with corporations (e.g.\, Limited Liability Company\, Corporations\, Non-Profits\, etc.) and the basic steps for obtaining a business license the basic steps for obtaining and renewing business licenses\, as well as building permit/certificate of occupancy guidance. This opportunity is designed for both future and current business owners looking to operate in the District of Columbia. \n*Bring Laptop* \nDate: 4/28/2026 \nRegister Here: https://dlcpsbrc.ecenterdirect.com/login?event=73886 \nPoint of Contact: Tyanna Prince (202) 704-9017 \nTraining Topics: Business Licensing\, Corporate Registration\, FR 500
URL:https://hstreet.org/event/dlcp-business-diagnostic-check-2/
LOCATION:1207 H Street NE\, Washington\, DC\, 20002
CATEGORIES:Workshops/Training
ATTACH;FMTTYPE=image/png:https://hstreet.org/wp-content/uploads/2026/03/Business-Diagnostic-Check-ev.png
ORGANIZER;CN="Department of Licensing and Consumer Protection's":MAILTO:dlcp@dc.gov
END:VEVENT
BEGIN:VEVENT
DTSTART;TZID=UTC:20260502T093000
DTEND;TZID=UTC:20260502T123000
DTSTAMP:20260421T183006
CREATED:20260421T134953Z
LAST-MODIFIED:20260421T142229Z
UID:10000757-1777714200-1777725000@hstreet.org
SUMMARY:H Street NE Year-Round Market
DESCRIPTION:Launched in 2024\, this year-round Saturday market is more than a place to shop—it’s a neighborhood hub for fresh food\, local goods\, and community connection in the heart of H Street NE. Learn more.
URL:https://hstreet.org/event/h-street-ne-year-round-market/2026-05-02/
LOCATION:Fresh Farm\, 800 13th St NE\, Washington\, DC\, 20002
ATTACH;FMTTYPE=image/png:https://hstreet.org/wp-content/uploads/2025/07/H-St-Farmers-Market.png
END:VEVENT
BEGIN:VEVENT
DTSTART;TZID=UTC:20260507T110000
DTEND;TZID=UTC:20260507T120000
DTSTAMP:20260421T183006
CREATED:20260421T171659Z
LAST-MODIFIED:20260421T171659Z
UID:10001017-1778151600-1778155200@hstreet.org
SUMMARY:What SBA Lenders Actually Want To See In 2026
DESCRIPTION:Accessing capital from the Small Business Administration (SBA) can feel overwhelming\, but this session breaks it down into clear\, actionable steps. An SBA expert will provide insider guidance on how loan applications are evaluated in 2026—from creditworthiness and financial documentation to industry trends and risk factors.\n\nParticipants will learn:\n• What SBA lenders prioritize when reviewing applications\n• Key financial documents and metrics to prepare\n• How to demonstrate business viability and repayment ability\n• Common mistakes that delay or derail approvals\n• How economic trends and interest rates are shaping lending decisions\n• Practical steps to become “loan-ready” before applying\n\nWhether preparing for a first loan or strengthening a future application\, this session will help participants position themselves for success. We’d appreciate your help sharing this event with your community.\n\nRegister Here: https://bit.ly/4sNg2xK
URL:https://hstreet.org/event/what-sba-lenders-actually-want-to-see-in-2026/
LOCATION:Virtual
CATEGORIES:Workshops/Training
ATTACH;FMTTYPE=image/png:https://hstreet.org/wp-content/uploads/2026/04/SBA-Lenders.png
END:VEVENT
BEGIN:VEVENT
DTSTART;TZID=UTC:20260509T093000
DTEND;TZID=UTC:20260509T123000
DTSTAMP:20260421T183006
CREATED:20260421T134953Z
LAST-MODIFIED:20260421T142229Z
UID:10000758-1778319000-1778329800@hstreet.org
SUMMARY:H Street NE Year-Round Market
DESCRIPTION:Launched in 2024\, this year-round Saturday market is more than a place to shop—it’s a neighborhood hub for fresh food\, local goods\, and community connection in the heart of H Street NE. Learn more.
URL:https://hstreet.org/event/h-street-ne-year-round-market/2026-05-09/
LOCATION:Fresh Farm\, 800 13th St NE\, Washington\, DC\, 20002
ATTACH;FMTTYPE=image/png:https://hstreet.org/wp-content/uploads/2025/07/H-St-Farmers-Market.png
END:VEVENT
BEGIN:VEVENT
DTSTART;TZID=UTC:20260516T093000
DTEND;TZID=UTC:20260516T123000
DTSTAMP:20260421T183006
CREATED:20260421T134953Z
LAST-MODIFIED:20260421T142229Z
UID:10000759-1778923800-1778934600@hstreet.org
SUMMARY:H Street NE Year-Round Market
DESCRIPTION:Launched in 2024\, this year-round Saturday market is more than a place to shop—it’s a neighborhood hub for fresh food\, local goods\, and community connection in the heart of H Street NE. Learn more.
URL:https://hstreet.org/event/h-street-ne-year-round-market/2026-05-16/
LOCATION:Fresh Farm\, 800 13th St NE\, Washington\, DC\, 20002
ATTACH;FMTTYPE=image/png:https://hstreet.org/wp-content/uploads/2025/07/H-St-Farmers-Market.png
END:VEVENT
BEGIN:VEVENT
DTSTART;TZID=UTC:20260523T093000
DTEND;TZID=UTC:20260523T123000
DTSTAMP:20260421T183006
CREATED:20260421T134953Z
LAST-MODIFIED:20260421T142229Z
UID:10000760-1779528600-1779539400@hstreet.org
SUMMARY:H Street NE Year-Round Market
DESCRIPTION:Launched in 2024\, this year-round Saturday market is more than a place to shop—it’s a neighborhood hub for fresh food\, local goods\, and community connection in the heart of H Street NE. Learn more.
URL:https://hstreet.org/event/h-street-ne-year-round-market/2026-05-23/
LOCATION:Fresh Farm\, 800 13th St NE\, Washington\, DC\, 20002
ATTACH;FMTTYPE=image/png:https://hstreet.org/wp-content/uploads/2025/07/H-St-Farmers-Market.png
END:VEVENT
BEGIN:VEVENT
DTSTART;TZID=UTC:20260530T093000
DTEND;TZID=UTC:20260530T123000
DTSTAMP:20260421T183006
CREATED:20260421T134953Z
LAST-MODIFIED:20260421T142229Z
UID:10000761-1780133400-1780144200@hstreet.org
SUMMARY:H Street NE Year-Round Market
DESCRIPTION:Launched in 2024\, this year-round Saturday market is more than a place to shop—it’s a neighborhood hub for fresh food\, local goods\, and community connection in the heart of H Street NE. Learn more.
URL:https://hstreet.org/event/h-street-ne-year-round-market/2026-05-30/
LOCATION:Fresh Farm\, 800 13th St NE\, Washington\, DC\, 20002
ATTACH;FMTTYPE=image/png:https://hstreet.org/wp-content/uploads/2025/07/H-St-Farmers-Market.png
END:VEVENT
BEGIN:VEVENT
DTSTART;TZID=UTC:20260606T093000
DTEND;TZID=UTC:20260606T123000
DTSTAMP:20260421T183006
CREATED:20260421T134953Z
LAST-MODIFIED:20260421T142229Z
UID:10000762-1780738200-1780749000@hstreet.org
SUMMARY:H Street NE Year-Round Market
DESCRIPTION:Launched in 2024\, this year-round Saturday market is more than a place to shop—it’s a neighborhood hub for fresh food\, local goods\, and community connection in the heart of H Street NE. Learn more.
URL:https://hstreet.org/event/h-street-ne-year-round-market/2026-06-06/
LOCATION:Fresh Farm\, 800 13th St NE\, Washington\, DC\, 20002
ATTACH;FMTTYPE=image/png:https://hstreet.org/wp-content/uploads/2025/07/H-St-Farmers-Market.png
END:VEVENT
BEGIN:VEVENT
DTSTART;TZID=UTC:20260613T093000
DTEND;TZID=UTC:20260613T123000
DTSTAMP:20260421T183006
CREATED:20260421T134953Z
LAST-MODIFIED:20260421T142229Z
UID:10000763-1781343000-1781353800@hstreet.org
SUMMARY:H Street NE Year-Round Market
DESCRIPTION:Launched in 2024\, this year-round Saturday market is more than a place to shop—it’s a neighborhood hub for fresh food\, local goods\, and community connection in the heart of H Street NE. Learn more.
URL:https://hstreet.org/event/h-street-ne-year-round-market/2026-06-13/
LOCATION:Fresh Farm\, 800 13th St NE\, Washington\, DC\, 20002
ATTACH;FMTTYPE=image/png:https://hstreet.org/wp-content/uploads/2025/07/H-St-Farmers-Market.png
END:VEVENT
BEGIN:VEVENT
DTSTART;TZID=UTC:20260620T093000
DTEND;TZID=UTC:20260620T123000
DTSTAMP:20260421T183006
CREATED:20260421T134953Z
LAST-MODIFIED:20260421T142229Z
UID:10000764-1781947800-1781958600@hstreet.org
SUMMARY:H Street NE Year-Round Market
DESCRIPTION:Launched in 2024\, this year-round Saturday market is more than a place to shop—it’s a neighborhood hub for fresh food\, local goods\, and community connection in the heart of H Street NE. Learn more.
URL:https://hstreet.org/event/h-street-ne-year-round-market/2026-06-20/
LOCATION:Fresh Farm\, 800 13th St NE\, Washington\, DC\, 20002
ATTACH;FMTTYPE=image/png:https://hstreet.org/wp-content/uploads/2025/07/H-St-Farmers-Market.png
END:VEVENT
BEGIN:VEVENT
DTSTART;TZID=UTC:20260627T093000
DTEND;TZID=UTC:20260627T123000
DTSTAMP:20260421T183006
CREATED:20260421T134953Z
LAST-MODIFIED:20260421T142229Z
UID:10000765-1782552600-1782563400@hstreet.org
SUMMARY:H Street NE Year-Round Market
DESCRIPTION:Launched in 2024\, this year-round Saturday market is more than a place to shop—it’s a neighborhood hub for fresh food\, local goods\, and community connection in the heart of H Street NE. Learn more.
URL:https://hstreet.org/event/h-street-ne-year-round-market/2026-06-27/
LOCATION:Fresh Farm\, 800 13th St NE\, Washington\, DC\, 20002
ATTACH;FMTTYPE=image/png:https://hstreet.org/wp-content/uploads/2025/07/H-St-Farmers-Market.png
END:VEVENT
BEGIN:VEVENT
DTSTART;TZID=UTC:20260704T093000
DTEND;TZID=UTC:20260704T123000
DTSTAMP:20260421T183006
CREATED:20260421T134953Z
LAST-MODIFIED:20260421T142229Z
UID:10000766-1783157400-1783168200@hstreet.org
SUMMARY:H Street NE Year-Round Market
DESCRIPTION:Launched in 2024\, this year-round Saturday market is more than a place to shop—it’s a neighborhood hub for fresh food\, local goods\, and community connection in the heart of H Street NE. Learn more.
URL:https://hstreet.org/event/h-street-ne-year-round-market/2026-07-04/
LOCATION:Fresh Farm\, 800 13th St NE\, Washington\, DC\, 20002
ATTACH;FMTTYPE=image/png:https://hstreet.org/wp-content/uploads/2025/07/H-St-Farmers-Market.png
END:VEVENT
BEGIN:VEVENT
DTSTART;TZID=UTC:20260711T093000
DTEND;TZID=UTC:20260711T123000
DTSTAMP:20260421T183006
CREATED:20260421T134953Z
LAST-MODIFIED:20260421T142229Z
UID:10000767-1783762200-1783773000@hstreet.org
SUMMARY:H Street NE Year-Round Market
DESCRIPTION:Launched in 2024\, this year-round Saturday market is more than a place to shop—it’s a neighborhood hub for fresh food\, local goods\, and community connection in the heart of H Street NE. Learn more.
URL:https://hstreet.org/event/h-street-ne-year-round-market/2026-07-11/
LOCATION:Fresh Farm\, 800 13th St NE\, Washington\, DC\, 20002
ATTACH;FMTTYPE=image/png:https://hstreet.org/wp-content/uploads/2025/07/H-St-Farmers-Market.png
END:VEVENT
BEGIN:VEVENT
DTSTART;TZID=UTC:20260718T093000
DTEND;TZID=UTC:20260718T123000
DTSTAMP:20260421T183006
CREATED:20260421T134953Z
LAST-MODIFIED:20260421T142229Z
UID:10000768-1784367000-1784377800@hstreet.org
SUMMARY:H Street NE Year-Round Market
DESCRIPTION:Launched in 2024\, this year-round Saturday market is more than a place to shop—it’s a neighborhood hub for fresh food\, local goods\, and community connection in the heart of H Street NE. Learn more.
URL:https://hstreet.org/event/h-street-ne-year-round-market/2026-07-18/
LOCATION:Fresh Farm\, 800 13th St NE\, Washington\, DC\, 20002
ATTACH;FMTTYPE=image/png:https://hstreet.org/wp-content/uploads/2025/07/H-St-Farmers-Market.png
END:VEVENT
BEGIN:VEVENT
DTSTART;TZID=UTC:20260725T093000
DTEND;TZID=UTC:20260725T123000
DTSTAMP:20260421T183006
CREATED:20260421T134953Z
LAST-MODIFIED:20260421T142229Z
UID:10000769-1784971800-1784982600@hstreet.org
SUMMARY:H Street NE Year-Round Market
DESCRIPTION:Launched in 2024\, this year-round Saturday market is more than a place to shop—it’s a neighborhood hub for fresh food\, local goods\, and community connection in the heart of H Street NE. Learn more.
URL:https://hstreet.org/event/h-street-ne-year-round-market/2026-07-25/
LOCATION:Fresh Farm\, 800 13th St NE\, Washington\, DC\, 20002
ATTACH;FMTTYPE=image/png:https://hstreet.org/wp-content/uploads/2025/07/H-St-Farmers-Market.png
END:VEVENT
BEGIN:VEVENT
DTSTART;TZID=UTC:20260801T093000
DTEND;TZID=UTC:20260801T123000
DTSTAMP:20260421T183006
CREATED:20260421T134953Z
LAST-MODIFIED:20260421T142229Z
UID:10000770-1785576600-1785587400@hstreet.org
SUMMARY:H Street NE Year-Round Market
DESCRIPTION:Launched in 2024\, this year-round Saturday market is more than a place to shop—it’s a neighborhood hub for fresh food\, local goods\, and community connection in the heart of H Street NE. Learn more.
URL:https://hstreet.org/event/h-street-ne-year-round-market/2026-08-01/
LOCATION:Fresh Farm\, 800 13th St NE\, Washington\, DC\, 20002
ATTACH;FMTTYPE=image/png:https://hstreet.org/wp-content/uploads/2025/07/H-St-Farmers-Market.png
END:VEVENT
BEGIN:VEVENT
DTSTART;TZID=UTC:20260808T093000
DTEND;TZID=UTC:20260808T123000
DTSTAMP:20260421T183006
CREATED:20260421T134953Z
LAST-MODIFIED:20260421T142229Z
UID:10000771-1786181400-1786192200@hstreet.org
SUMMARY:H Street NE Year-Round Market
DESCRIPTION:Launched in 2024\, this year-round Saturday market is more than a place to shop—it’s a neighborhood hub for fresh food\, local goods\, and community connection in the heart of H Street NE. Learn more.
URL:https://hstreet.org/event/h-street-ne-year-round-market/2026-08-08/
LOCATION:Fresh Farm\, 800 13th St NE\, Washington\, DC\, 20002
ATTACH;FMTTYPE=image/png:https://hstreet.org/wp-content/uploads/2025/07/H-St-Farmers-Market.png
END:VEVENT
BEGIN:VEVENT
DTSTART;TZID=UTC:20260815T093000
DTEND;TZID=UTC:20260815T123000
DTSTAMP:20260421T183006
CREATED:20260421T134953Z
LAST-MODIFIED:20260421T142229Z
UID:10000772-1786786200-1786797000@hstreet.org
SUMMARY:H Street NE Year-Round Market
DESCRIPTION:Launched in 2024\, this year-round Saturday market is more than a place to shop—it’s a neighborhood hub for fresh food\, local goods\, and community connection in the heart of H Street NE. Learn more.
URL:https://hstreet.org/event/h-street-ne-year-round-market/2026-08-15/
LOCATION:Fresh Farm\, 800 13th St NE\, Washington\, DC\, 20002
ATTACH;FMTTYPE=image/png:https://hstreet.org/wp-content/uploads/2025/07/H-St-Farmers-Market.png
END:VEVENT
BEGIN:VEVENT
DTSTART;TZID=UTC:20260822T093000
DTEND;TZID=UTC:20260822T123000
DTSTAMP:20260421T183006
CREATED:20260421T134953Z
LAST-MODIFIED:20260421T142229Z
UID:10000773-1787391000-1787401800@hstreet.org
SUMMARY:H Street NE Year-Round Market
DESCRIPTION:Launched in 2024\, this year-round Saturday market is more than a place to shop—it’s a neighborhood hub for fresh food\, local goods\, and community connection in the heart of H Street NE. Learn more.
URL:https://hstreet.org/event/h-street-ne-year-round-market/2026-08-22/
LOCATION:Fresh Farm\, 800 13th St NE\, Washington\, DC\, 20002
ATTACH;FMTTYPE=image/png:https://hstreet.org/wp-content/uploads/2025/07/H-St-Farmers-Market.png
END:VEVENT
BEGIN:VEVENT
DTSTART;TZID=UTC:20260829T093000
DTEND;TZID=UTC:20260829T123000
DTSTAMP:20260421T183006
CREATED:20260421T134953Z
LAST-MODIFIED:20260421T142229Z
UID:10000774-1787995800-1788006600@hstreet.org
SUMMARY:H Street NE Year-Round Market
DESCRIPTION:Launched in 2024\, this year-round Saturday market is more than a place to shop—it’s a neighborhood hub for fresh food\, local goods\, and community connection in the heart of H Street NE. Learn more.
URL:https://hstreet.org/event/h-street-ne-year-round-market/2026-08-29/
LOCATION:Fresh Farm\, 800 13th St NE\, Washington\, DC\, 20002
ATTACH;FMTTYPE=image/png:https://hstreet.org/wp-content/uploads/2025/07/H-St-Farmers-Market.png
END:VEVENT
BEGIN:VEVENT
DTSTART;TZID=UTC:20260905T093000
DTEND;TZID=UTC:20260905T123000
DTSTAMP:20260421T183006
CREATED:20260421T134953Z
LAST-MODIFIED:20260421T142229Z
UID:10000775-1788600600-1788611400@hstreet.org
SUMMARY:H Street NE Year-Round Market
DESCRIPTION:Launched in 2024\, this year-round Saturday market is more than a place to shop—it’s a neighborhood hub for fresh food\, local goods\, and community connection in the heart of H Street NE. Learn more.
URL:https://hstreet.org/event/h-street-ne-year-round-market/2026-09-05/
LOCATION:Fresh Farm\, 800 13th St NE\, Washington\, DC\, 20002
ATTACH;FMTTYPE=image/png:https://hstreet.org/wp-content/uploads/2025/07/H-St-Farmers-Market.png
END:VEVENT
BEGIN:VEVENT
DTSTART;TZID=UTC:20260912T093000
DTEND;TZID=UTC:20260912T123000
DTSTAMP:20260421T183006
CREATED:20260421T134953Z
LAST-MODIFIED:20260421T142229Z
UID:10000776-1789205400-1789216200@hstreet.org
SUMMARY:H Street NE Year-Round Market
DESCRIPTION:Launched in 2024\, this year-round Saturday market is more than a place to shop—it’s a neighborhood hub for fresh food\, local goods\, and community connection in the heart of H Street NE. Learn more.
URL:https://hstreet.org/event/h-street-ne-year-round-market/2026-09-12/
LOCATION:Fresh Farm\, 800 13th St NE\, Washington\, DC\, 20002
ATTACH;FMTTYPE=image/png:https://hstreet.org/wp-content/uploads/2025/07/H-St-Farmers-Market.png
END:VEVENT
BEGIN:VEVENT
DTSTART;TZID=UTC:20260912T190000
DTEND;TZID=UTC:20260913T000000
DTSTAMP:20260421T183006
CREATED:20260315T233323Z
LAST-MODIFIED:20260315T234841Z
UID:10000705-1789239600-1789257600@hstreet.org
SUMMARY:Art All Night 2026
DESCRIPTION:Save the date for an unforgettable night of art\, music\, and culture on H Street NE! As part of Mayor Muriel Bowser’s citywide Art All Night\, the corridor will come alive with live performances\, art installations\, interactive experiences\, and late-night creativity throughout the neighborhood. Join us on Saturday\, September 12\, 2026 from 7 PM to midnight for an evening celebrating local artists\, businesses\, and the vibrant spirit of DC.
URL:https://hstreet.org/event/art-all-night-2026/
LOCATION:H Street NE\, 1207 H Street NE\, Washington\, DC\, 20020
CATEGORIES:Events
ATTACH;FMTTYPE=image/png:https://hstreet.org/wp-content/uploads/2026/03/db26eacc-c1d8-44c3-9c9b-efa9e2cc8df9.png
ORGANIZER;CN="H Street Main Street":MAILTO:info@hstreetfestival.org
END:VEVENT
BEGIN:VEVENT
DTSTART;TZID=UTC:20260919T093000
DTEND;TZID=UTC:20260919T123000
DTSTAMP:20260421T183006
CREATED:20260421T134953Z
LAST-MODIFIED:20260421T142229Z
UID:10000777-1789810200-1789821000@hstreet.org
SUMMARY:H Street NE Year-Round Market
DESCRIPTION:Launched in 2024\, this year-round Saturday market is more than a place to shop—it’s a neighborhood hub for fresh food\, local goods\, and community connection in the heart of H Street NE. Learn more.
URL:https://hstreet.org/event/h-street-ne-year-round-market/2026-09-19/
LOCATION:Fresh Farm\, 800 13th St NE\, Washington\, DC\, 20002
ATTACH;FMTTYPE=image/png:https://hstreet.org/wp-content/uploads/2025/07/H-St-Farmers-Market.png
END:VEVENT
BEGIN:VEVENT
DTSTART;TZID=UTC:20260919T120000
DTEND;TZID=UTC:20260919T190000
DTSTAMP:20260421T183006
CREATED:20260315T234617Z
LAST-MODIFIED:20260315T234702Z
UID:10000704-1789819200-1789844400@hstreet.org
SUMMARY:2026 H Street Festival
DESCRIPTION:Celebrate one of DC’s most beloved neighborhood festivals! The 2026 H Street Festival returns on Saturday\, September 19 from 12 PM to 7 PM\, bringing thousands of visitors to H Street NE for a full day of live music\, local vendors\, food\, art\, family activities\, and community celebration. Join us for an unforgettable day highlighting the creativity\, culture\, and businesses that make the H Street corridor unique.
URL:https://hstreet.org/event/2026-h-street-festival/
LOCATION:H Street NE\, 1207 H Street NE\, Washington\, DC\, 20020
CATEGORIES:Events
ATTACH;FMTTYPE=image/png:https://hstreet.org/wp-content/uploads/2026/03/2026-HSF.png
ORGANIZER;CN="H Street Main Street":MAILTO:info@hstreetfestival.org
END:VEVENT
END:VCALENDAR