BEGIN:VCALENDAR
VERSION:2.0
PRODID:-// - ECPv6.15.20//NONSGML v1.0//EN
CALSCALE:GREGORIAN
METHOD:PUBLISH
X-ORIGINAL-URL:https://hstreet.org
X-WR-CALDESC:Events for 
REFRESH-INTERVAL;VALUE=DURATION:PT1H
X-Robots-Tag:noindex
X-PUBLISHED-TTL:PT1H
BEGIN:VTIMEZONE
TZID:UTC
BEGIN:STANDARD
TZOFFSETFROM:+0000
TZOFFSETTO:+0000
TZNAME:UTC
DTSTART:20300101T000000
END:STANDARD
END:VTIMEZONE
BEGIN:VEVENT
DTSTART;TZID=UTC:20310301T093000
DTEND;TZID=UTC:20310301T123000
DTSTAMP:20260421T202929
CREATED:20260421T134953Z
LAST-MODIFIED:20260421T142229Z
UID:10001009-1930123800-1930134600@hstreet.org
SUMMARY:H Street NE Year-Round Market
DESCRIPTION:Launched in 2024\, this year-round Saturday market is more than a place to shop—it’s a neighborhood hub for fresh food\, local goods\, and community connection in the heart of H Street NE. Learn more.
URL:https://hstreet.org/event/h-street-ne-year-round-market/2031-03-01/
LOCATION:Fresh Farm\, 800 13th St NE\, Washington\, DC\, 20002
ATTACH;FMTTYPE=image/png:https://hstreet.org/wp-content/uploads/2025/07/H-St-Farmers-Market.png
END:VEVENT
BEGIN:VEVENT
DTSTART;TZID=UTC:20310308T093000
DTEND;TZID=UTC:20310308T123000
DTSTAMP:20260421T202929
CREATED:20260421T134953Z
LAST-MODIFIED:20260421T142229Z
UID:10001010-1930728600-1930739400@hstreet.org
SUMMARY:H Street NE Year-Round Market
DESCRIPTION:Launched in 2024\, this year-round Saturday market is more than a place to shop—it’s a neighborhood hub for fresh food\, local goods\, and community connection in the heart of H Street NE. Learn more.
URL:https://hstreet.org/event/h-street-ne-year-round-market/2031-03-08/
LOCATION:Fresh Farm\, 800 13th St NE\, Washington\, DC\, 20002
ATTACH;FMTTYPE=image/png:https://hstreet.org/wp-content/uploads/2025/07/H-St-Farmers-Market.png
END:VEVENT
BEGIN:VEVENT
DTSTART;TZID=UTC:20310315T093000
DTEND;TZID=UTC:20310315T123000
DTSTAMP:20260421T202929
CREATED:20260421T134953Z
LAST-MODIFIED:20260421T142229Z
UID:10001011-1931333400-1931344200@hstreet.org
SUMMARY:H Street NE Year-Round Market
DESCRIPTION:Launched in 2024\, this year-round Saturday market is more than a place to shop—it’s a neighborhood hub for fresh food\, local goods\, and community connection in the heart of H Street NE. Learn more.
URL:https://hstreet.org/event/h-street-ne-year-round-market/2031-03-15/
LOCATION:Fresh Farm\, 800 13th St NE\, Washington\, DC\, 20002
ATTACH;FMTTYPE=image/png:https://hstreet.org/wp-content/uploads/2025/07/H-St-Farmers-Market.png
END:VEVENT
BEGIN:VEVENT
DTSTART;TZID=UTC:20310322T093000
DTEND;TZID=UTC:20310322T123000
DTSTAMP:20260421T202929
CREATED:20260421T134953Z
LAST-MODIFIED:20260421T142229Z
UID:10001012-1931938200-1931949000@hstreet.org
SUMMARY:H Street NE Year-Round Market
DESCRIPTION:Launched in 2024\, this year-round Saturday market is more than a place to shop—it’s a neighborhood hub for fresh food\, local goods\, and community connection in the heart of H Street NE. Learn more.
URL:https://hstreet.org/event/h-street-ne-year-round-market/2031-03-22/
LOCATION:Fresh Farm\, 800 13th St NE\, Washington\, DC\, 20002
ATTACH;FMTTYPE=image/png:https://hstreet.org/wp-content/uploads/2025/07/H-St-Farmers-Market.png
END:VEVENT
BEGIN:VEVENT
DTSTART;TZID=UTC:20310329T093000
DTEND;TZID=UTC:20310329T123000
DTSTAMP:20260421T202929
CREATED:20260421T134953Z
LAST-MODIFIED:20260421T142229Z
UID:10001013-1932543000-1932553800@hstreet.org
SUMMARY:H Street NE Year-Round Market
DESCRIPTION:Launched in 2024\, this year-round Saturday market is more than a place to shop—it’s a neighborhood hub for fresh food\, local goods\, and community connection in the heart of H Street NE. Learn more.
URL:https://hstreet.org/event/h-street-ne-year-round-market/2031-03-29/
LOCATION:Fresh Farm\, 800 13th St NE\, Washington\, DC\, 20002
ATTACH;FMTTYPE=image/png:https://hstreet.org/wp-content/uploads/2025/07/H-St-Farmers-Market.png
END:VEVENT
BEGIN:VEVENT
DTSTART;TZID=UTC:20310405T093000
DTEND;TZID=UTC:20310405T123000
DTSTAMP:20260421T202929
CREATED:20260421T134953Z
LAST-MODIFIED:20260421T142229Z
UID:10001014-1933147800-1933158600@hstreet.org
SUMMARY:H Street NE Year-Round Market
DESCRIPTION:Launched in 2024\, this year-round Saturday market is more than a place to shop—it’s a neighborhood hub for fresh food\, local goods\, and community connection in the heart of H Street NE. Learn more.
URL:https://hstreet.org/event/h-street-ne-year-round-market/2031-04-05/
LOCATION:Fresh Farm\, 800 13th St NE\, Washington\, DC\, 20002
ATTACH;FMTTYPE=image/png:https://hstreet.org/wp-content/uploads/2025/07/H-St-Farmers-Market.png
END:VEVENT
BEGIN:VEVENT
DTSTART;TZID=UTC:20310412T093000
DTEND;TZID=UTC:20310412T123000
DTSTAMP:20260421T202929
CREATED:20260421T134953Z
LAST-MODIFIED:20260421T142229Z
UID:10001015-1933752600-1933763400@hstreet.org
SUMMARY:H Street NE Year-Round Market
DESCRIPTION:Launched in 2024\, this year-round Saturday market is more than a place to shop—it’s a neighborhood hub for fresh food\, local goods\, and community connection in the heart of H Street NE. Learn more.
URL:https://hstreet.org/event/h-street-ne-year-round-market/2031-04-12/
LOCATION:Fresh Farm\, 800 13th St NE\, Washington\, DC\, 20002
ATTACH;FMTTYPE=image/png:https://hstreet.org/wp-content/uploads/2025/07/H-St-Farmers-Market.png
END:VEVENT
BEGIN:VEVENT
DTSTART;TZID=UTC:20310419T093000
DTEND;TZID=UTC:20310419T123000
DTSTAMP:20260421T202929
CREATED:20260421T134953Z
LAST-MODIFIED:20260421T142229Z
UID:10001016-1934357400-1934368200@hstreet.org
SUMMARY:H Street NE Year-Round Market
DESCRIPTION:Launched in 2024\, this year-round Saturday market is more than a place to shop—it’s a neighborhood hub for fresh food\, local goods\, and community connection in the heart of H Street NE. Learn more.
URL:https://hstreet.org/event/h-street-ne-year-round-market/2031-04-19/
LOCATION:Fresh Farm\, 800 13th St NE\, Washington\, DC\, 20002
ATTACH;FMTTYPE=image/png:https://hstreet.org/wp-content/uploads/2025/07/H-St-Farmers-Market.png
END:VEVENT
END:VCALENDAR