BEGIN:VCALENDAR
VERSION:2.0
PRODID:-// - ECPv6.15.20//NONSGML v1.0//EN
CALSCALE:GREGORIAN
METHOD:PUBLISH
X-ORIGINAL-URL:https://hstreet.org
X-WR-CALDESC:Events for 
REFRESH-INTERVAL;VALUE=DURATION:PT1H
X-Robots-Tag:noindex
X-PUBLISHED-TTL:PT1H
BEGIN:VTIMEZONE
TZID:UTC
BEGIN:STANDARD
TZOFFSETFROM:+0000
TZOFFSETTO:+0000
TZNAME:UTC
DTSTART:20290101T000000
END:STANDARD
END:VTIMEZONE
BEGIN:VEVENT
DTSTART;TZID=UTC:20300727T093000
DTEND;TZID=UTC:20300727T123000
DTSTAMP:20260421T195601
CREATED:20260421T134953Z
LAST-MODIFIED:20260421T142229Z
UID:10000978-1911375000-1911385800@hstreet.org
SUMMARY:H Street NE Year-Round Market
DESCRIPTION:Launched in 2024\, this year-round Saturday market is more than a place to shop—it’s a neighborhood hub for fresh food\, local goods\, and community connection in the heart of H Street NE. Learn more.
URL:https://hstreet.org/event/h-street-ne-year-round-market/2030-07-27/
LOCATION:Fresh Farm\, 800 13th St NE\, Washington\, DC\, 20002
ATTACH;FMTTYPE=image/png:https://hstreet.org/wp-content/uploads/2025/07/H-St-Farmers-Market.png
END:VEVENT
BEGIN:VEVENT
DTSTART;TZID=UTC:20300803T093000
DTEND;TZID=UTC:20300803T123000
DTSTAMP:20260421T195601
CREATED:20260421T134953Z
LAST-MODIFIED:20260421T142229Z
UID:10000979-1911979800-1911990600@hstreet.org
SUMMARY:H Street NE Year-Round Market
DESCRIPTION:Launched in 2024\, this year-round Saturday market is more than a place to shop—it’s a neighborhood hub for fresh food\, local goods\, and community connection in the heart of H Street NE. Learn more.
URL:https://hstreet.org/event/h-street-ne-year-round-market/2030-08-03/
LOCATION:Fresh Farm\, 800 13th St NE\, Washington\, DC\, 20002
ATTACH;FMTTYPE=image/png:https://hstreet.org/wp-content/uploads/2025/07/H-St-Farmers-Market.png
END:VEVENT
BEGIN:VEVENT
DTSTART;TZID=UTC:20300810T093000
DTEND;TZID=UTC:20300810T123000
DTSTAMP:20260421T195601
CREATED:20260421T134953Z
LAST-MODIFIED:20260421T142229Z
UID:10000980-1912584600-1912595400@hstreet.org
SUMMARY:H Street NE Year-Round Market
DESCRIPTION:Launched in 2024\, this year-round Saturday market is more than a place to shop—it’s a neighborhood hub for fresh food\, local goods\, and community connection in the heart of H Street NE. Learn more.
URL:https://hstreet.org/event/h-street-ne-year-round-market/2030-08-10/
LOCATION:Fresh Farm\, 800 13th St NE\, Washington\, DC\, 20002
ATTACH;FMTTYPE=image/png:https://hstreet.org/wp-content/uploads/2025/07/H-St-Farmers-Market.png
END:VEVENT
BEGIN:VEVENT
DTSTART;TZID=UTC:20300817T093000
DTEND;TZID=UTC:20300817T123000
DTSTAMP:20260421T195601
CREATED:20260421T134953Z
LAST-MODIFIED:20260421T142229Z
UID:10000981-1913189400-1913200200@hstreet.org
SUMMARY:H Street NE Year-Round Market
DESCRIPTION:Launched in 2024\, this year-round Saturday market is more than a place to shop—it’s a neighborhood hub for fresh food\, local goods\, and community connection in the heart of H Street NE. Learn more.
URL:https://hstreet.org/event/h-street-ne-year-round-market/2030-08-17/
LOCATION:Fresh Farm\, 800 13th St NE\, Washington\, DC\, 20002
ATTACH;FMTTYPE=image/png:https://hstreet.org/wp-content/uploads/2025/07/H-St-Farmers-Market.png
END:VEVENT
BEGIN:VEVENT
DTSTART;TZID=UTC:20300824T093000
DTEND;TZID=UTC:20300824T123000
DTSTAMP:20260421T195601
CREATED:20260421T134953Z
LAST-MODIFIED:20260421T142229Z
UID:10000982-1913794200-1913805000@hstreet.org
SUMMARY:H Street NE Year-Round Market
DESCRIPTION:Launched in 2024\, this year-round Saturday market is more than a place to shop—it’s a neighborhood hub for fresh food\, local goods\, and community connection in the heart of H Street NE. Learn more.
URL:https://hstreet.org/event/h-street-ne-year-round-market/2030-08-24/
LOCATION:Fresh Farm\, 800 13th St NE\, Washington\, DC\, 20002
ATTACH;FMTTYPE=image/png:https://hstreet.org/wp-content/uploads/2025/07/H-St-Farmers-Market.png
END:VEVENT
BEGIN:VEVENT
DTSTART;TZID=UTC:20300831T093000
DTEND;TZID=UTC:20300831T123000
DTSTAMP:20260421T195601
CREATED:20260421T134953Z
LAST-MODIFIED:20260421T142229Z
UID:10000983-1914399000-1914409800@hstreet.org
SUMMARY:H Street NE Year-Round Market
DESCRIPTION:Launched in 2024\, this year-round Saturday market is more than a place to shop—it’s a neighborhood hub for fresh food\, local goods\, and community connection in the heart of H Street NE. Learn more.
URL:https://hstreet.org/event/h-street-ne-year-round-market/2030-08-31/
LOCATION:Fresh Farm\, 800 13th St NE\, Washington\, DC\, 20002
ATTACH;FMTTYPE=image/png:https://hstreet.org/wp-content/uploads/2025/07/H-St-Farmers-Market.png
END:VEVENT
BEGIN:VEVENT
DTSTART;TZID=UTC:20300907T093000
DTEND;TZID=UTC:20300907T123000
DTSTAMP:20260421T195601
CREATED:20260421T134953Z
LAST-MODIFIED:20260421T142229Z
UID:10000984-1915003800-1915014600@hstreet.org
SUMMARY:H Street NE Year-Round Market
DESCRIPTION:Launched in 2024\, this year-round Saturday market is more than a place to shop—it’s a neighborhood hub for fresh food\, local goods\, and community connection in the heart of H Street NE. Learn more.
URL:https://hstreet.org/event/h-street-ne-year-round-market/2030-09-07/
LOCATION:Fresh Farm\, 800 13th St NE\, Washington\, DC\, 20002
ATTACH;FMTTYPE=image/png:https://hstreet.org/wp-content/uploads/2025/07/H-St-Farmers-Market.png
END:VEVENT
BEGIN:VEVENT
DTSTART;TZID=UTC:20300914T093000
DTEND;TZID=UTC:20300914T123000
DTSTAMP:20260421T195601
CREATED:20260421T134953Z
LAST-MODIFIED:20260421T142229Z
UID:10000985-1915608600-1915619400@hstreet.org
SUMMARY:H Street NE Year-Round Market
DESCRIPTION:Launched in 2024\, this year-round Saturday market is more than a place to shop—it’s a neighborhood hub for fresh food\, local goods\, and community connection in the heart of H Street NE. Learn more.
URL:https://hstreet.org/event/h-street-ne-year-round-market/2030-09-14/
LOCATION:Fresh Farm\, 800 13th St NE\, Washington\, DC\, 20002
ATTACH;FMTTYPE=image/png:https://hstreet.org/wp-content/uploads/2025/07/H-St-Farmers-Market.png
END:VEVENT
BEGIN:VEVENT
DTSTART;TZID=UTC:20300921T093000
DTEND;TZID=UTC:20300921T123000
DTSTAMP:20260421T195601
CREATED:20260421T134953Z
LAST-MODIFIED:20260421T142229Z
UID:10000986-1916213400-1916224200@hstreet.org
SUMMARY:H Street NE Year-Round Market
DESCRIPTION:Launched in 2024\, this year-round Saturday market is more than a place to shop—it’s a neighborhood hub for fresh food\, local goods\, and community connection in the heart of H Street NE. Learn more.
URL:https://hstreet.org/event/h-street-ne-year-round-market/2030-09-21/
LOCATION:Fresh Farm\, 800 13th St NE\, Washington\, DC\, 20002
ATTACH;FMTTYPE=image/png:https://hstreet.org/wp-content/uploads/2025/07/H-St-Farmers-Market.png
END:VEVENT
BEGIN:VEVENT
DTSTART;TZID=UTC:20300928T093000
DTEND;TZID=UTC:20300928T123000
DTSTAMP:20260421T195601
CREATED:20260421T134953Z
LAST-MODIFIED:20260421T142229Z
UID:10000987-1916818200-1916829000@hstreet.org
SUMMARY:H Street NE Year-Round Market
DESCRIPTION:Launched in 2024\, this year-round Saturday market is more than a place to shop—it’s a neighborhood hub for fresh food\, local goods\, and community connection in the heart of H Street NE. Learn more.
URL:https://hstreet.org/event/h-street-ne-year-round-market/2030-09-28/
LOCATION:Fresh Farm\, 800 13th St NE\, Washington\, DC\, 20002
ATTACH;FMTTYPE=image/png:https://hstreet.org/wp-content/uploads/2025/07/H-St-Farmers-Market.png
END:VEVENT
BEGIN:VEVENT
DTSTART;TZID=UTC:20301005T093000
DTEND;TZID=UTC:20301005T123000
DTSTAMP:20260421T195601
CREATED:20260421T134953Z
LAST-MODIFIED:20260421T142229Z
UID:10000988-1917423000-1917433800@hstreet.org
SUMMARY:H Street NE Year-Round Market
DESCRIPTION:Launched in 2024\, this year-round Saturday market is more than a place to shop—it’s a neighborhood hub for fresh food\, local goods\, and community connection in the heart of H Street NE. Learn more.
URL:https://hstreet.org/event/h-street-ne-year-round-market/2030-10-05/
LOCATION:Fresh Farm\, 800 13th St NE\, Washington\, DC\, 20002
ATTACH;FMTTYPE=image/png:https://hstreet.org/wp-content/uploads/2025/07/H-St-Farmers-Market.png
END:VEVENT
BEGIN:VEVENT
DTSTART;TZID=UTC:20301012T093000
DTEND;TZID=UTC:20301012T123000
DTSTAMP:20260421T195601
CREATED:20260421T134953Z
LAST-MODIFIED:20260421T142229Z
UID:10000989-1918027800-1918038600@hstreet.org
SUMMARY:H Street NE Year-Round Market
DESCRIPTION:Launched in 2024\, this year-round Saturday market is more than a place to shop—it’s a neighborhood hub for fresh food\, local goods\, and community connection in the heart of H Street NE. Learn more.
URL:https://hstreet.org/event/h-street-ne-year-round-market/2030-10-12/
LOCATION:Fresh Farm\, 800 13th St NE\, Washington\, DC\, 20002
ATTACH;FMTTYPE=image/png:https://hstreet.org/wp-content/uploads/2025/07/H-St-Farmers-Market.png
END:VEVENT
BEGIN:VEVENT
DTSTART;TZID=UTC:20301019T093000
DTEND;TZID=UTC:20301019T123000
DTSTAMP:20260421T195601
CREATED:20260421T134953Z
LAST-MODIFIED:20260421T142229Z
UID:10000990-1918632600-1918643400@hstreet.org
SUMMARY:H Street NE Year-Round Market
DESCRIPTION:Launched in 2024\, this year-round Saturday market is more than a place to shop—it’s a neighborhood hub for fresh food\, local goods\, and community connection in the heart of H Street NE. Learn more.
URL:https://hstreet.org/event/h-street-ne-year-round-market/2030-10-19/
LOCATION:Fresh Farm\, 800 13th St NE\, Washington\, DC\, 20002
ATTACH;FMTTYPE=image/png:https://hstreet.org/wp-content/uploads/2025/07/H-St-Farmers-Market.png
END:VEVENT
BEGIN:VEVENT
DTSTART;TZID=UTC:20301026T093000
DTEND;TZID=UTC:20301026T123000
DTSTAMP:20260421T195601
CREATED:20260421T134953Z
LAST-MODIFIED:20260421T142229Z
UID:10000991-1919237400-1919248200@hstreet.org
SUMMARY:H Street NE Year-Round Market
DESCRIPTION:Launched in 2024\, this year-round Saturday market is more than a place to shop—it’s a neighborhood hub for fresh food\, local goods\, and community connection in the heart of H Street NE. Learn more.
URL:https://hstreet.org/event/h-street-ne-year-round-market/2030-10-26/
LOCATION:Fresh Farm\, 800 13th St NE\, Washington\, DC\, 20002
ATTACH;FMTTYPE=image/png:https://hstreet.org/wp-content/uploads/2025/07/H-St-Farmers-Market.png
END:VEVENT
BEGIN:VEVENT
DTSTART;TZID=UTC:20301102T093000
DTEND;TZID=UTC:20301102T123000
DTSTAMP:20260421T195601
CREATED:20260421T134953Z
LAST-MODIFIED:20260421T142229Z
UID:10000992-1919842200-1919853000@hstreet.org
SUMMARY:H Street NE Year-Round Market
DESCRIPTION:Launched in 2024\, this year-round Saturday market is more than a place to shop—it’s a neighborhood hub for fresh food\, local goods\, and community connection in the heart of H Street NE. Learn more.
URL:https://hstreet.org/event/h-street-ne-year-round-market/2030-11-02/
LOCATION:Fresh Farm\, 800 13th St NE\, Washington\, DC\, 20002
ATTACH;FMTTYPE=image/png:https://hstreet.org/wp-content/uploads/2025/07/H-St-Farmers-Market.png
END:VEVENT
BEGIN:VEVENT
DTSTART;TZID=UTC:20301109T093000
DTEND;TZID=UTC:20301109T123000
DTSTAMP:20260421T195601
CREATED:20260421T134953Z
LAST-MODIFIED:20260421T142229Z
UID:10000993-1920447000-1920457800@hstreet.org
SUMMARY:H Street NE Year-Round Market
DESCRIPTION:Launched in 2024\, this year-round Saturday market is more than a place to shop—it’s a neighborhood hub for fresh food\, local goods\, and community connection in the heart of H Street NE. Learn more.
URL:https://hstreet.org/event/h-street-ne-year-round-market/2030-11-09/
LOCATION:Fresh Farm\, 800 13th St NE\, Washington\, DC\, 20002
ATTACH;FMTTYPE=image/png:https://hstreet.org/wp-content/uploads/2025/07/H-St-Farmers-Market.png
END:VEVENT
BEGIN:VEVENT
DTSTART;TZID=UTC:20301116T093000
DTEND;TZID=UTC:20301116T123000
DTSTAMP:20260421T195601
CREATED:20260421T134953Z
LAST-MODIFIED:20260421T142229Z
UID:10000994-1921051800-1921062600@hstreet.org
SUMMARY:H Street NE Year-Round Market
DESCRIPTION:Launched in 2024\, this year-round Saturday market is more than a place to shop—it’s a neighborhood hub for fresh food\, local goods\, and community connection in the heart of H Street NE. Learn more.
URL:https://hstreet.org/event/h-street-ne-year-round-market/2030-11-16/
LOCATION:Fresh Farm\, 800 13th St NE\, Washington\, DC\, 20002
ATTACH;FMTTYPE=image/png:https://hstreet.org/wp-content/uploads/2025/07/H-St-Farmers-Market.png
END:VEVENT
BEGIN:VEVENT
DTSTART;TZID=UTC:20301123T093000
DTEND;TZID=UTC:20301123T123000
DTSTAMP:20260421T195601
CREATED:20260421T134953Z
LAST-MODIFIED:20260421T142229Z
UID:10000995-1921656600-1921667400@hstreet.org
SUMMARY:H Street NE Year-Round Market
DESCRIPTION:Launched in 2024\, this year-round Saturday market is more than a place to shop—it’s a neighborhood hub for fresh food\, local goods\, and community connection in the heart of H Street NE. Learn more.
URL:https://hstreet.org/event/h-street-ne-year-round-market/2030-11-23/
LOCATION:Fresh Farm\, 800 13th St NE\, Washington\, DC\, 20002
ATTACH;FMTTYPE=image/png:https://hstreet.org/wp-content/uploads/2025/07/H-St-Farmers-Market.png
END:VEVENT
BEGIN:VEVENT
DTSTART;TZID=UTC:20301130T093000
DTEND;TZID=UTC:20301130T123000
DTSTAMP:20260421T195601
CREATED:20260421T134953Z
LAST-MODIFIED:20260421T142229Z
UID:10000996-1922261400-1922272200@hstreet.org
SUMMARY:H Street NE Year-Round Market
DESCRIPTION:Launched in 2024\, this year-round Saturday market is more than a place to shop—it’s a neighborhood hub for fresh food\, local goods\, and community connection in the heart of H Street NE. Learn more.
URL:https://hstreet.org/event/h-street-ne-year-round-market/2030-11-30/
LOCATION:Fresh Farm\, 800 13th St NE\, Washington\, DC\, 20002
ATTACH;FMTTYPE=image/png:https://hstreet.org/wp-content/uploads/2025/07/H-St-Farmers-Market.png
END:VEVENT
BEGIN:VEVENT
DTSTART;TZID=UTC:20301207T093000
DTEND;TZID=UTC:20301207T123000
DTSTAMP:20260421T195601
CREATED:20260421T134953Z
LAST-MODIFIED:20260421T142229Z
UID:10000997-1922866200-1922877000@hstreet.org
SUMMARY:H Street NE Year-Round Market
DESCRIPTION:Launched in 2024\, this year-round Saturday market is more than a place to shop—it’s a neighborhood hub for fresh food\, local goods\, and community connection in the heart of H Street NE. Learn more.
URL:https://hstreet.org/event/h-street-ne-year-round-market/2030-12-07/
LOCATION:Fresh Farm\, 800 13th St NE\, Washington\, DC\, 20002
ATTACH;FMTTYPE=image/png:https://hstreet.org/wp-content/uploads/2025/07/H-St-Farmers-Market.png
END:VEVENT
BEGIN:VEVENT
DTSTART;TZID=UTC:20301214T093000
DTEND;TZID=UTC:20301214T123000
DTSTAMP:20260421T195601
CREATED:20260421T134953Z
LAST-MODIFIED:20260421T142229Z
UID:10000998-1923471000-1923481800@hstreet.org
SUMMARY:H Street NE Year-Round Market
DESCRIPTION:Launched in 2024\, this year-round Saturday market is more than a place to shop—it’s a neighborhood hub for fresh food\, local goods\, and community connection in the heart of H Street NE. Learn more.
URL:https://hstreet.org/event/h-street-ne-year-round-market/2030-12-14/
LOCATION:Fresh Farm\, 800 13th St NE\, Washington\, DC\, 20002
ATTACH;FMTTYPE=image/png:https://hstreet.org/wp-content/uploads/2025/07/H-St-Farmers-Market.png
END:VEVENT
BEGIN:VEVENT
DTSTART;TZID=UTC:20301221T093000
DTEND;TZID=UTC:20301221T123000
DTSTAMP:20260421T195601
CREATED:20260421T134953Z
LAST-MODIFIED:20260421T142229Z
UID:10000999-1924075800-1924086600@hstreet.org
SUMMARY:H Street NE Year-Round Market
DESCRIPTION:Launched in 2024\, this year-round Saturday market is more than a place to shop—it’s a neighborhood hub for fresh food\, local goods\, and community connection in the heart of H Street NE. Learn more.
URL:https://hstreet.org/event/h-street-ne-year-round-market/2030-12-21/
LOCATION:Fresh Farm\, 800 13th St NE\, Washington\, DC\, 20002
ATTACH;FMTTYPE=image/png:https://hstreet.org/wp-content/uploads/2025/07/H-St-Farmers-Market.png
END:VEVENT
BEGIN:VEVENT
DTSTART;TZID=UTC:20301228T093000
DTEND;TZID=UTC:20301228T123000
DTSTAMP:20260421T195601
CREATED:20260421T134953Z
LAST-MODIFIED:20260421T142229Z
UID:10001000-1924680600-1924691400@hstreet.org
SUMMARY:H Street NE Year-Round Market
DESCRIPTION:Launched in 2024\, this year-round Saturday market is more than a place to shop—it’s a neighborhood hub for fresh food\, local goods\, and community connection in the heart of H Street NE. Learn more.
URL:https://hstreet.org/event/h-street-ne-year-round-market/2030-12-28/
LOCATION:Fresh Farm\, 800 13th St NE\, Washington\, DC\, 20002
ATTACH;FMTTYPE=image/png:https://hstreet.org/wp-content/uploads/2025/07/H-St-Farmers-Market.png
END:VEVENT
BEGIN:VEVENT
DTSTART;TZID=UTC:20310104T093000
DTEND;TZID=UTC:20310104T123000
DTSTAMP:20260421T195601
CREATED:20260421T134953Z
LAST-MODIFIED:20260421T142229Z
UID:10001001-1925285400-1925296200@hstreet.org
SUMMARY:H Street NE Year-Round Market
DESCRIPTION:Launched in 2024\, this year-round Saturday market is more than a place to shop—it’s a neighborhood hub for fresh food\, local goods\, and community connection in the heart of H Street NE. Learn more.
URL:https://hstreet.org/event/h-street-ne-year-round-market/2031-01-04/
LOCATION:Fresh Farm\, 800 13th St NE\, Washington\, DC\, 20002
ATTACH;FMTTYPE=image/png:https://hstreet.org/wp-content/uploads/2025/07/H-St-Farmers-Market.png
END:VEVENT
BEGIN:VEVENT
DTSTART;TZID=UTC:20310111T093000
DTEND;TZID=UTC:20310111T123000
DTSTAMP:20260421T195601
CREATED:20260421T134953Z
LAST-MODIFIED:20260421T142229Z
UID:10001002-1925890200-1925901000@hstreet.org
SUMMARY:H Street NE Year-Round Market
DESCRIPTION:Launched in 2024\, this year-round Saturday market is more than a place to shop—it’s a neighborhood hub for fresh food\, local goods\, and community connection in the heart of H Street NE. Learn more.
URL:https://hstreet.org/event/h-street-ne-year-round-market/2031-01-11/
LOCATION:Fresh Farm\, 800 13th St NE\, Washington\, DC\, 20002
ATTACH;FMTTYPE=image/png:https://hstreet.org/wp-content/uploads/2025/07/H-St-Farmers-Market.png
END:VEVENT
BEGIN:VEVENT
DTSTART;TZID=UTC:20310118T093000
DTEND;TZID=UTC:20310118T123000
DTSTAMP:20260421T195601
CREATED:20260421T134953Z
LAST-MODIFIED:20260421T142229Z
UID:10001003-1926495000-1926505800@hstreet.org
SUMMARY:H Street NE Year-Round Market
DESCRIPTION:Launched in 2024\, this year-round Saturday market is more than a place to shop—it’s a neighborhood hub for fresh food\, local goods\, and community connection in the heart of H Street NE. Learn more.
URL:https://hstreet.org/event/h-street-ne-year-round-market/2031-01-18/
LOCATION:Fresh Farm\, 800 13th St NE\, Washington\, DC\, 20002
ATTACH;FMTTYPE=image/png:https://hstreet.org/wp-content/uploads/2025/07/H-St-Farmers-Market.png
END:VEVENT
BEGIN:VEVENT
DTSTART;TZID=UTC:20310125T093000
DTEND;TZID=UTC:20310125T123000
DTSTAMP:20260421T195601
CREATED:20260421T134953Z
LAST-MODIFIED:20260421T142229Z
UID:10001004-1927099800-1927110600@hstreet.org
SUMMARY:H Street NE Year-Round Market
DESCRIPTION:Launched in 2024\, this year-round Saturday market is more than a place to shop—it’s a neighborhood hub for fresh food\, local goods\, and community connection in the heart of H Street NE. Learn more.
URL:https://hstreet.org/event/h-street-ne-year-round-market/2031-01-25/
LOCATION:Fresh Farm\, 800 13th St NE\, Washington\, DC\, 20002
ATTACH;FMTTYPE=image/png:https://hstreet.org/wp-content/uploads/2025/07/H-St-Farmers-Market.png
END:VEVENT
BEGIN:VEVENT
DTSTART;TZID=UTC:20310201T093000
DTEND;TZID=UTC:20310201T123000
DTSTAMP:20260421T195601
CREATED:20260421T134953Z
LAST-MODIFIED:20260421T142229Z
UID:10001005-1927704600-1927715400@hstreet.org
SUMMARY:H Street NE Year-Round Market
DESCRIPTION:Launched in 2024\, this year-round Saturday market is more than a place to shop—it’s a neighborhood hub for fresh food\, local goods\, and community connection in the heart of H Street NE. Learn more.
URL:https://hstreet.org/event/h-street-ne-year-round-market/2031-02-01/
LOCATION:Fresh Farm\, 800 13th St NE\, Washington\, DC\, 20002
ATTACH;FMTTYPE=image/png:https://hstreet.org/wp-content/uploads/2025/07/H-St-Farmers-Market.png
END:VEVENT
BEGIN:VEVENT
DTSTART;TZID=UTC:20310208T093000
DTEND;TZID=UTC:20310208T123000
DTSTAMP:20260421T195601
CREATED:20260421T134953Z
LAST-MODIFIED:20260421T142229Z
UID:10001006-1928309400-1928320200@hstreet.org
SUMMARY:H Street NE Year-Round Market
DESCRIPTION:Launched in 2024\, this year-round Saturday market is more than a place to shop—it’s a neighborhood hub for fresh food\, local goods\, and community connection in the heart of H Street NE. Learn more.
URL:https://hstreet.org/event/h-street-ne-year-round-market/2031-02-08/
LOCATION:Fresh Farm\, 800 13th St NE\, Washington\, DC\, 20002
ATTACH;FMTTYPE=image/png:https://hstreet.org/wp-content/uploads/2025/07/H-St-Farmers-Market.png
END:VEVENT
BEGIN:VEVENT
DTSTART;TZID=UTC:20310215T093000
DTEND;TZID=UTC:20310215T123000
DTSTAMP:20260421T195601
CREATED:20260421T134953Z
LAST-MODIFIED:20260421T142229Z
UID:10001007-1928914200-1928925000@hstreet.org
SUMMARY:H Street NE Year-Round Market
DESCRIPTION:Launched in 2024\, this year-round Saturday market is more than a place to shop—it’s a neighborhood hub for fresh food\, local goods\, and community connection in the heart of H Street NE. Learn more.
URL:https://hstreet.org/event/h-street-ne-year-round-market/2031-02-15/
LOCATION:Fresh Farm\, 800 13th St NE\, Washington\, DC\, 20002
ATTACH;FMTTYPE=image/png:https://hstreet.org/wp-content/uploads/2025/07/H-St-Farmers-Market.png
END:VEVENT
END:VCALENDAR