BEGIN:VCALENDAR
VERSION:2.0
PRODID:-// - ECPv6.15.20//NONSGML v1.0//EN
CALSCALE:GREGORIAN
METHOD:PUBLISH
X-ORIGINAL-URL:https://hstreet.org
X-WR-CALDESC:Events for 
REFRESH-INTERVAL;VALUE=DURATION:PT1H
X-Robots-Tag:noindex
X-PUBLISHED-TTL:PT1H
BEGIN:VTIMEZONE
TZID:UTC
BEGIN:STANDARD
TZOFFSETFROM:+0000
TZOFFSETTO:+0000
TZNAME:UTC
DTSTART:20270101T000000
END:STANDARD
END:VTIMEZONE
BEGIN:VEVENT
DTSTART;TZID=UTC:20280812T093000
DTEND;TZID=UTC:20280812T123000
DTSTAMP:20260421T214336
CREATED:20260421T134953Z
LAST-MODIFIED:20260421T142229Z
UID:10000876-1849685400-1849696200@hstreet.org
SUMMARY:H Street NE Year-Round Market
DESCRIPTION:Launched in 2024\, this year-round Saturday market is more than a place to shop—it’s a neighborhood hub for fresh food\, local goods\, and community connection in the heart of H Street NE. Learn more.
URL:https://hstreet.org/event/h-street-ne-year-round-market/2028-08-12/
LOCATION:Fresh Farm\, 800 13th St NE\, Washington\, DC\, 20002
ATTACH;FMTTYPE=image/png:https://hstreet.org/wp-content/uploads/2025/07/H-St-Farmers-Market.png
END:VEVENT
BEGIN:VEVENT
DTSTART;TZID=UTC:20280819T093000
DTEND;TZID=UTC:20280819T123000
DTSTAMP:20260421T214336
CREATED:20260421T134953Z
LAST-MODIFIED:20260421T142229Z
UID:10000877-1850290200-1850301000@hstreet.org
SUMMARY:H Street NE Year-Round Market
DESCRIPTION:Launched in 2024\, this year-round Saturday market is more than a place to shop—it’s a neighborhood hub for fresh food\, local goods\, and community connection in the heart of H Street NE. Learn more.
URL:https://hstreet.org/event/h-street-ne-year-round-market/2028-08-19/
LOCATION:Fresh Farm\, 800 13th St NE\, Washington\, DC\, 20002
ATTACH;FMTTYPE=image/png:https://hstreet.org/wp-content/uploads/2025/07/H-St-Farmers-Market.png
END:VEVENT
BEGIN:VEVENT
DTSTART;TZID=UTC:20280826T093000
DTEND;TZID=UTC:20280826T123000
DTSTAMP:20260421T214336
CREATED:20260421T134953Z
LAST-MODIFIED:20260421T142229Z
UID:10000878-1850895000-1850905800@hstreet.org
SUMMARY:H Street NE Year-Round Market
DESCRIPTION:Launched in 2024\, this year-round Saturday market is more than a place to shop—it’s a neighborhood hub for fresh food\, local goods\, and community connection in the heart of H Street NE. Learn more.
URL:https://hstreet.org/event/h-street-ne-year-round-market/2028-08-26/
LOCATION:Fresh Farm\, 800 13th St NE\, Washington\, DC\, 20002
ATTACH;FMTTYPE=image/png:https://hstreet.org/wp-content/uploads/2025/07/H-St-Farmers-Market.png
END:VEVENT
BEGIN:VEVENT
DTSTART;TZID=UTC:20280902T093000
DTEND;TZID=UTC:20280902T123000
DTSTAMP:20260421T214336
CREATED:20260421T134953Z
LAST-MODIFIED:20260421T142229Z
UID:10000879-1851499800-1851510600@hstreet.org
SUMMARY:H Street NE Year-Round Market
DESCRIPTION:Launched in 2024\, this year-round Saturday market is more than a place to shop—it’s a neighborhood hub for fresh food\, local goods\, and community connection in the heart of H Street NE. Learn more.
URL:https://hstreet.org/event/h-street-ne-year-round-market/2028-09-02/
LOCATION:Fresh Farm\, 800 13th St NE\, Washington\, DC\, 20002
ATTACH;FMTTYPE=image/png:https://hstreet.org/wp-content/uploads/2025/07/H-St-Farmers-Market.png
END:VEVENT
BEGIN:VEVENT
DTSTART;TZID=UTC:20280909T093000
DTEND;TZID=UTC:20280909T123000
DTSTAMP:20260421T214336
CREATED:20260421T134953Z
LAST-MODIFIED:20260421T142229Z
UID:10000880-1852104600-1852115400@hstreet.org
SUMMARY:H Street NE Year-Round Market
DESCRIPTION:Launched in 2024\, this year-round Saturday market is more than a place to shop—it’s a neighborhood hub for fresh food\, local goods\, and community connection in the heart of H Street NE. Learn more.
URL:https://hstreet.org/event/h-street-ne-year-round-market/2028-09-09/
LOCATION:Fresh Farm\, 800 13th St NE\, Washington\, DC\, 20002
ATTACH;FMTTYPE=image/png:https://hstreet.org/wp-content/uploads/2025/07/H-St-Farmers-Market.png
END:VEVENT
BEGIN:VEVENT
DTSTART;TZID=UTC:20280916T093000
DTEND;TZID=UTC:20280916T123000
DTSTAMP:20260421T214336
CREATED:20260421T134953Z
LAST-MODIFIED:20260421T142229Z
UID:10000881-1852709400-1852720200@hstreet.org
SUMMARY:H Street NE Year-Round Market
DESCRIPTION:Launched in 2024\, this year-round Saturday market is more than a place to shop—it’s a neighborhood hub for fresh food\, local goods\, and community connection in the heart of H Street NE. Learn more.
URL:https://hstreet.org/event/h-street-ne-year-round-market/2028-09-16/
LOCATION:Fresh Farm\, 800 13th St NE\, Washington\, DC\, 20002
ATTACH;FMTTYPE=image/png:https://hstreet.org/wp-content/uploads/2025/07/H-St-Farmers-Market.png
END:VEVENT
BEGIN:VEVENT
DTSTART;TZID=UTC:20280923T093000
DTEND;TZID=UTC:20280923T123000
DTSTAMP:20260421T214336
CREATED:20260421T134953Z
LAST-MODIFIED:20260421T142229Z
UID:10000882-1853314200-1853325000@hstreet.org
SUMMARY:H Street NE Year-Round Market
DESCRIPTION:Launched in 2024\, this year-round Saturday market is more than a place to shop—it’s a neighborhood hub for fresh food\, local goods\, and community connection in the heart of H Street NE. Learn more.
URL:https://hstreet.org/event/h-street-ne-year-round-market/2028-09-23/
LOCATION:Fresh Farm\, 800 13th St NE\, Washington\, DC\, 20002
ATTACH;FMTTYPE=image/png:https://hstreet.org/wp-content/uploads/2025/07/H-St-Farmers-Market.png
END:VEVENT
BEGIN:VEVENT
DTSTART;TZID=UTC:20280930T093000
DTEND;TZID=UTC:20280930T123000
DTSTAMP:20260421T214336
CREATED:20260421T134953Z
LAST-MODIFIED:20260421T142229Z
UID:10000883-1853919000-1853929800@hstreet.org
SUMMARY:H Street NE Year-Round Market
DESCRIPTION:Launched in 2024\, this year-round Saturday market is more than a place to shop—it’s a neighborhood hub for fresh food\, local goods\, and community connection in the heart of H Street NE. Learn more.
URL:https://hstreet.org/event/h-street-ne-year-round-market/2028-09-30/
LOCATION:Fresh Farm\, 800 13th St NE\, Washington\, DC\, 20002
ATTACH;FMTTYPE=image/png:https://hstreet.org/wp-content/uploads/2025/07/H-St-Farmers-Market.png
END:VEVENT
BEGIN:VEVENT
DTSTART;TZID=UTC:20281007T093000
DTEND;TZID=UTC:20281007T123000
DTSTAMP:20260421T214336
CREATED:20260421T134953Z
LAST-MODIFIED:20260421T142229Z
UID:10000884-1854523800-1854534600@hstreet.org
SUMMARY:H Street NE Year-Round Market
DESCRIPTION:Launched in 2024\, this year-round Saturday market is more than a place to shop—it’s a neighborhood hub for fresh food\, local goods\, and community connection in the heart of H Street NE. Learn more.
URL:https://hstreet.org/event/h-street-ne-year-round-market/2028-10-07/
LOCATION:Fresh Farm\, 800 13th St NE\, Washington\, DC\, 20002
ATTACH;FMTTYPE=image/png:https://hstreet.org/wp-content/uploads/2025/07/H-St-Farmers-Market.png
END:VEVENT
BEGIN:VEVENT
DTSTART;TZID=UTC:20281014T093000
DTEND;TZID=UTC:20281014T123000
DTSTAMP:20260421T214336
CREATED:20260421T134953Z
LAST-MODIFIED:20260421T142229Z
UID:10000885-1855128600-1855139400@hstreet.org
SUMMARY:H Street NE Year-Round Market
DESCRIPTION:Launched in 2024\, this year-round Saturday market is more than a place to shop—it’s a neighborhood hub for fresh food\, local goods\, and community connection in the heart of H Street NE. Learn more.
URL:https://hstreet.org/event/h-street-ne-year-round-market/2028-10-14/
LOCATION:Fresh Farm\, 800 13th St NE\, Washington\, DC\, 20002
ATTACH;FMTTYPE=image/png:https://hstreet.org/wp-content/uploads/2025/07/H-St-Farmers-Market.png
END:VEVENT
BEGIN:VEVENT
DTSTART;TZID=UTC:20281021T093000
DTEND;TZID=UTC:20281021T123000
DTSTAMP:20260421T214336
CREATED:20260421T134953Z
LAST-MODIFIED:20260421T142229Z
UID:10000886-1855733400-1855744200@hstreet.org
SUMMARY:H Street NE Year-Round Market
DESCRIPTION:Launched in 2024\, this year-round Saturday market is more than a place to shop—it’s a neighborhood hub for fresh food\, local goods\, and community connection in the heart of H Street NE. Learn more.
URL:https://hstreet.org/event/h-street-ne-year-round-market/2028-10-21/
LOCATION:Fresh Farm\, 800 13th St NE\, Washington\, DC\, 20002
ATTACH;FMTTYPE=image/png:https://hstreet.org/wp-content/uploads/2025/07/H-St-Farmers-Market.png
END:VEVENT
BEGIN:VEVENT
DTSTART;TZID=UTC:20281028T093000
DTEND;TZID=UTC:20281028T123000
DTSTAMP:20260421T214336
CREATED:20260421T134953Z
LAST-MODIFIED:20260421T142229Z
UID:10000887-1856338200-1856349000@hstreet.org
SUMMARY:H Street NE Year-Round Market
DESCRIPTION:Launched in 2024\, this year-round Saturday market is more than a place to shop—it’s a neighborhood hub for fresh food\, local goods\, and community connection in the heart of H Street NE. Learn more.
URL:https://hstreet.org/event/h-street-ne-year-round-market/2028-10-28/
LOCATION:Fresh Farm\, 800 13th St NE\, Washington\, DC\, 20002
ATTACH;FMTTYPE=image/png:https://hstreet.org/wp-content/uploads/2025/07/H-St-Farmers-Market.png
END:VEVENT
BEGIN:VEVENT
DTSTART;TZID=UTC:20281104T093000
DTEND;TZID=UTC:20281104T123000
DTSTAMP:20260421T214336
CREATED:20260421T134953Z
LAST-MODIFIED:20260421T142229Z
UID:10000888-1856943000-1856953800@hstreet.org
SUMMARY:H Street NE Year-Round Market
DESCRIPTION:Launched in 2024\, this year-round Saturday market is more than a place to shop—it’s a neighborhood hub for fresh food\, local goods\, and community connection in the heart of H Street NE. Learn more.
URL:https://hstreet.org/event/h-street-ne-year-round-market/2028-11-04/
LOCATION:Fresh Farm\, 800 13th St NE\, Washington\, DC\, 20002
ATTACH;FMTTYPE=image/png:https://hstreet.org/wp-content/uploads/2025/07/H-St-Farmers-Market.png
END:VEVENT
BEGIN:VEVENT
DTSTART;TZID=UTC:20281111T093000
DTEND;TZID=UTC:20281111T123000
DTSTAMP:20260421T214336
CREATED:20260421T134953Z
LAST-MODIFIED:20260421T142229Z
UID:10000889-1857547800-1857558600@hstreet.org
SUMMARY:H Street NE Year-Round Market
DESCRIPTION:Launched in 2024\, this year-round Saturday market is more than a place to shop—it’s a neighborhood hub for fresh food\, local goods\, and community connection in the heart of H Street NE. Learn more.
URL:https://hstreet.org/event/h-street-ne-year-round-market/2028-11-11/
LOCATION:Fresh Farm\, 800 13th St NE\, Washington\, DC\, 20002
ATTACH;FMTTYPE=image/png:https://hstreet.org/wp-content/uploads/2025/07/H-St-Farmers-Market.png
END:VEVENT
BEGIN:VEVENT
DTSTART;TZID=UTC:20281118T093000
DTEND;TZID=UTC:20281118T123000
DTSTAMP:20260421T214336
CREATED:20260421T134953Z
LAST-MODIFIED:20260421T142229Z
UID:10000890-1858152600-1858163400@hstreet.org
SUMMARY:H Street NE Year-Round Market
DESCRIPTION:Launched in 2024\, this year-round Saturday market is more than a place to shop—it’s a neighborhood hub for fresh food\, local goods\, and community connection in the heart of H Street NE. Learn more.
URL:https://hstreet.org/event/h-street-ne-year-round-market/2028-11-18/
LOCATION:Fresh Farm\, 800 13th St NE\, Washington\, DC\, 20002
ATTACH;FMTTYPE=image/png:https://hstreet.org/wp-content/uploads/2025/07/H-St-Farmers-Market.png
END:VEVENT
BEGIN:VEVENT
DTSTART;TZID=UTC:20281125T093000
DTEND;TZID=UTC:20281125T123000
DTSTAMP:20260421T214336
CREATED:20260421T134953Z
LAST-MODIFIED:20260421T142229Z
UID:10000891-1858757400-1858768200@hstreet.org
SUMMARY:H Street NE Year-Round Market
DESCRIPTION:Launched in 2024\, this year-round Saturday market is more than a place to shop—it’s a neighborhood hub for fresh food\, local goods\, and community connection in the heart of H Street NE. Learn more.
URL:https://hstreet.org/event/h-street-ne-year-round-market/2028-11-25/
LOCATION:Fresh Farm\, 800 13th St NE\, Washington\, DC\, 20002
ATTACH;FMTTYPE=image/png:https://hstreet.org/wp-content/uploads/2025/07/H-St-Farmers-Market.png
END:VEVENT
BEGIN:VEVENT
DTSTART;TZID=UTC:20281202T093000
DTEND;TZID=UTC:20281202T123000
DTSTAMP:20260421T214336
CREATED:20260421T134953Z
LAST-MODIFIED:20260421T142229Z
UID:10000892-1859362200-1859373000@hstreet.org
SUMMARY:H Street NE Year-Round Market
DESCRIPTION:Launched in 2024\, this year-round Saturday market is more than a place to shop—it’s a neighborhood hub for fresh food\, local goods\, and community connection in the heart of H Street NE. Learn more.
URL:https://hstreet.org/event/h-street-ne-year-round-market/2028-12-02/
LOCATION:Fresh Farm\, 800 13th St NE\, Washington\, DC\, 20002
ATTACH;FMTTYPE=image/png:https://hstreet.org/wp-content/uploads/2025/07/H-St-Farmers-Market.png
END:VEVENT
BEGIN:VEVENT
DTSTART;TZID=UTC:20281209T093000
DTEND;TZID=UTC:20281209T123000
DTSTAMP:20260421T214336
CREATED:20260421T134953Z
LAST-MODIFIED:20260421T142229Z
UID:10000893-1859967000-1859977800@hstreet.org
SUMMARY:H Street NE Year-Round Market
DESCRIPTION:Launched in 2024\, this year-round Saturday market is more than a place to shop—it’s a neighborhood hub for fresh food\, local goods\, and community connection in the heart of H Street NE. Learn more.
URL:https://hstreet.org/event/h-street-ne-year-round-market/2028-12-09/
LOCATION:Fresh Farm\, 800 13th St NE\, Washington\, DC\, 20002
ATTACH;FMTTYPE=image/png:https://hstreet.org/wp-content/uploads/2025/07/H-St-Farmers-Market.png
END:VEVENT
BEGIN:VEVENT
DTSTART;TZID=UTC:20281216T093000
DTEND;TZID=UTC:20281216T123000
DTSTAMP:20260421T214336
CREATED:20260421T134953Z
LAST-MODIFIED:20260421T142229Z
UID:10000894-1860571800-1860582600@hstreet.org
SUMMARY:H Street NE Year-Round Market
DESCRIPTION:Launched in 2024\, this year-round Saturday market is more than a place to shop—it’s a neighborhood hub for fresh food\, local goods\, and community connection in the heart of H Street NE. Learn more.
URL:https://hstreet.org/event/h-street-ne-year-round-market/2028-12-16/
LOCATION:Fresh Farm\, 800 13th St NE\, Washington\, DC\, 20002
ATTACH;FMTTYPE=image/png:https://hstreet.org/wp-content/uploads/2025/07/H-St-Farmers-Market.png
END:VEVENT
BEGIN:VEVENT
DTSTART;TZID=UTC:20281223T093000
DTEND;TZID=UTC:20281223T123000
DTSTAMP:20260421T214336
CREATED:20260421T134953Z
LAST-MODIFIED:20260421T142229Z
UID:10000895-1861176600-1861187400@hstreet.org
SUMMARY:H Street NE Year-Round Market
DESCRIPTION:Launched in 2024\, this year-round Saturday market is more than a place to shop—it’s a neighborhood hub for fresh food\, local goods\, and community connection in the heart of H Street NE. Learn more.
URL:https://hstreet.org/event/h-street-ne-year-round-market/2028-12-23/
LOCATION:Fresh Farm\, 800 13th St NE\, Washington\, DC\, 20002
ATTACH;FMTTYPE=image/png:https://hstreet.org/wp-content/uploads/2025/07/H-St-Farmers-Market.png
END:VEVENT
BEGIN:VEVENT
DTSTART;TZID=UTC:20281230T093000
DTEND;TZID=UTC:20281230T123000
DTSTAMP:20260421T214336
CREATED:20260421T134953Z
LAST-MODIFIED:20260421T142229Z
UID:10000896-1861781400-1861792200@hstreet.org
SUMMARY:H Street NE Year-Round Market
DESCRIPTION:Launched in 2024\, this year-round Saturday market is more than a place to shop—it’s a neighborhood hub for fresh food\, local goods\, and community connection in the heart of H Street NE. Learn more.
URL:https://hstreet.org/event/h-street-ne-year-round-market/2028-12-30/
LOCATION:Fresh Farm\, 800 13th St NE\, Washington\, DC\, 20002
ATTACH;FMTTYPE=image/png:https://hstreet.org/wp-content/uploads/2025/07/H-St-Farmers-Market.png
END:VEVENT
BEGIN:VEVENT
DTSTART;TZID=UTC:20290106T093000
DTEND;TZID=UTC:20290106T123000
DTSTAMP:20260421T214336
CREATED:20260421T134953Z
LAST-MODIFIED:20260421T142229Z
UID:10000897-1862386200-1862397000@hstreet.org
SUMMARY:H Street NE Year-Round Market
DESCRIPTION:Launched in 2024\, this year-round Saturday market is more than a place to shop—it’s a neighborhood hub for fresh food\, local goods\, and community connection in the heart of H Street NE. Learn more.
URL:https://hstreet.org/event/h-street-ne-year-round-market/2029-01-06/
LOCATION:Fresh Farm\, 800 13th St NE\, Washington\, DC\, 20002
ATTACH;FMTTYPE=image/png:https://hstreet.org/wp-content/uploads/2025/07/H-St-Farmers-Market.png
END:VEVENT
BEGIN:VEVENT
DTSTART;TZID=UTC:20290113T093000
DTEND;TZID=UTC:20290113T123000
DTSTAMP:20260421T214336
CREATED:20260421T134953Z
LAST-MODIFIED:20260421T142229Z
UID:10000898-1862991000-1863001800@hstreet.org
SUMMARY:H Street NE Year-Round Market
DESCRIPTION:Launched in 2024\, this year-round Saturday market is more than a place to shop—it’s a neighborhood hub for fresh food\, local goods\, and community connection in the heart of H Street NE. Learn more.
URL:https://hstreet.org/event/h-street-ne-year-round-market/2029-01-13/
LOCATION:Fresh Farm\, 800 13th St NE\, Washington\, DC\, 20002
ATTACH;FMTTYPE=image/png:https://hstreet.org/wp-content/uploads/2025/07/H-St-Farmers-Market.png
END:VEVENT
BEGIN:VEVENT
DTSTART;TZID=UTC:20290120T093000
DTEND;TZID=UTC:20290120T123000
DTSTAMP:20260421T214336
CREATED:20260421T134953Z
LAST-MODIFIED:20260421T142229Z
UID:10000899-1863595800-1863606600@hstreet.org
SUMMARY:H Street NE Year-Round Market
DESCRIPTION:Launched in 2024\, this year-round Saturday market is more than a place to shop—it’s a neighborhood hub for fresh food\, local goods\, and community connection in the heart of H Street NE. Learn more.
URL:https://hstreet.org/event/h-street-ne-year-round-market/2029-01-20/
LOCATION:Fresh Farm\, 800 13th St NE\, Washington\, DC\, 20002
ATTACH;FMTTYPE=image/png:https://hstreet.org/wp-content/uploads/2025/07/H-St-Farmers-Market.png
END:VEVENT
BEGIN:VEVENT
DTSTART;TZID=UTC:20290127T093000
DTEND;TZID=UTC:20290127T123000
DTSTAMP:20260421T214336
CREATED:20260421T134953Z
LAST-MODIFIED:20260421T142229Z
UID:10000900-1864200600-1864211400@hstreet.org
SUMMARY:H Street NE Year-Round Market
DESCRIPTION:Launched in 2024\, this year-round Saturday market is more than a place to shop—it’s a neighborhood hub for fresh food\, local goods\, and community connection in the heart of H Street NE. Learn more.
URL:https://hstreet.org/event/h-street-ne-year-round-market/2029-01-27/
LOCATION:Fresh Farm\, 800 13th St NE\, Washington\, DC\, 20002
ATTACH;FMTTYPE=image/png:https://hstreet.org/wp-content/uploads/2025/07/H-St-Farmers-Market.png
END:VEVENT
BEGIN:VEVENT
DTSTART;TZID=UTC:20290203T093000
DTEND;TZID=UTC:20290203T123000
DTSTAMP:20260421T214336
CREATED:20260421T134953Z
LAST-MODIFIED:20260421T142229Z
UID:10000901-1864805400-1864816200@hstreet.org
SUMMARY:H Street NE Year-Round Market
DESCRIPTION:Launched in 2024\, this year-round Saturday market is more than a place to shop—it’s a neighborhood hub for fresh food\, local goods\, and community connection in the heart of H Street NE. Learn more.
URL:https://hstreet.org/event/h-street-ne-year-round-market/2029-02-03/
LOCATION:Fresh Farm\, 800 13th St NE\, Washington\, DC\, 20002
ATTACH;FMTTYPE=image/png:https://hstreet.org/wp-content/uploads/2025/07/H-St-Farmers-Market.png
END:VEVENT
BEGIN:VEVENT
DTSTART;TZID=UTC:20290210T093000
DTEND;TZID=UTC:20290210T123000
DTSTAMP:20260421T214336
CREATED:20260421T134953Z
LAST-MODIFIED:20260421T142229Z
UID:10000902-1865410200-1865421000@hstreet.org
SUMMARY:H Street NE Year-Round Market
DESCRIPTION:Launched in 2024\, this year-round Saturday market is more than a place to shop—it’s a neighborhood hub for fresh food\, local goods\, and community connection in the heart of H Street NE. Learn more.
URL:https://hstreet.org/event/h-street-ne-year-round-market/2029-02-10/
LOCATION:Fresh Farm\, 800 13th St NE\, Washington\, DC\, 20002
ATTACH;FMTTYPE=image/png:https://hstreet.org/wp-content/uploads/2025/07/H-St-Farmers-Market.png
END:VEVENT
BEGIN:VEVENT
DTSTART;TZID=UTC:20290217T093000
DTEND;TZID=UTC:20290217T123000
DTSTAMP:20260421T214336
CREATED:20260421T134953Z
LAST-MODIFIED:20260421T142229Z
UID:10000903-1866015000-1866025800@hstreet.org
SUMMARY:H Street NE Year-Round Market
DESCRIPTION:Launched in 2024\, this year-round Saturday market is more than a place to shop—it’s a neighborhood hub for fresh food\, local goods\, and community connection in the heart of H Street NE. Learn more.
URL:https://hstreet.org/event/h-street-ne-year-round-market/2029-02-17/
LOCATION:Fresh Farm\, 800 13th St NE\, Washington\, DC\, 20002
ATTACH;FMTTYPE=image/png:https://hstreet.org/wp-content/uploads/2025/07/H-St-Farmers-Market.png
END:VEVENT
BEGIN:VEVENT
DTSTART;TZID=UTC:20290224T093000
DTEND;TZID=UTC:20290224T123000
DTSTAMP:20260421T214336
CREATED:20260421T134953Z
LAST-MODIFIED:20260421T142229Z
UID:10000904-1866619800-1866630600@hstreet.org
SUMMARY:H Street NE Year-Round Market
DESCRIPTION:Launched in 2024\, this year-round Saturday market is more than a place to shop—it’s a neighborhood hub for fresh food\, local goods\, and community connection in the heart of H Street NE. Learn more.
URL:https://hstreet.org/event/h-street-ne-year-round-market/2029-02-24/
LOCATION:Fresh Farm\, 800 13th St NE\, Washington\, DC\, 20002
ATTACH;FMTTYPE=image/png:https://hstreet.org/wp-content/uploads/2025/07/H-St-Farmers-Market.png
END:VEVENT
BEGIN:VEVENT
DTSTART;TZID=UTC:20290303T093000
DTEND;TZID=UTC:20290303T123000
DTSTAMP:20260421T214336
CREATED:20260421T134953Z
LAST-MODIFIED:20260421T142229Z
UID:10000905-1867224600-1867235400@hstreet.org
SUMMARY:H Street NE Year-Round Market
DESCRIPTION:Launched in 2024\, this year-round Saturday market is more than a place to shop—it’s a neighborhood hub for fresh food\, local goods\, and community connection in the heart of H Street NE. Learn more.
URL:https://hstreet.org/event/h-street-ne-year-round-market/2029-03-03/
LOCATION:Fresh Farm\, 800 13th St NE\, Washington\, DC\, 20002
ATTACH;FMTTYPE=image/png:https://hstreet.org/wp-content/uploads/2025/07/H-St-Farmers-Market.png
END:VEVENT
END:VCALENDAR