BEGIN:VCALENDAR
VERSION:2.0
PRODID:-// - ECPv6.15.20//NONSGML v1.0//EN
CALSCALE:GREGORIAN
METHOD:PUBLISH
X-ORIGINAL-URL:https://hstreet.org
X-WR-CALDESC:Events for 
REFRESH-INTERVAL;VALUE=DURATION:PT1H
X-Robots-Tag:noindex
X-PUBLISHED-TTL:PT1H
BEGIN:VTIMEZONE
TZID:UTC
BEGIN:STANDARD
TZOFFSETFROM:+0000
TZOFFSETTO:+0000
TZNAME:UTC
DTSTART:20240101T000000
END:STANDARD
END:VTIMEZONE
BEGIN:VEVENT
DTSTART;TZID=UTC:20250809T180000
DTEND;TZID=UTC:20250809T220000
DTSTAMP:20260421T134337
CREATED:20250728T135322Z
LAST-MODIFIED:20250809T181345Z
UID:10000165-1754762400-1754776800@hstreet.org
SUMMARY:Second Saturdays on H: The Chocolate City Experience – Wheels Up Block Party
DESCRIPTION:We kicked off the summer with a bang on July 12\, and the party’s not over! Join us on August 9th for Second Saturdays on H: The Chocolate City Experience – Wheels Up Block Party — a high-energy celebration of D.C. culture\, community pride\, and street-style flair. \nFrom live DJs spinning go-go\, funk\, and classic Chocolate City jams to roller skating zones\, vintage cars\, and custom bikes\, the block comes alive with movement and music. Enjoy captivating art projections\, thrilling Double Dutch performances\, and bike crews bringing the heat. \nLocal H Street businesses will be offering exclusive promotions and specials\, so whether you’re shopping\, eating\, or just soaking it all in\, there’s something for everyone. \n✨ Mark your calendar\, bring your crew\, and roll through for a celebration that’s all about rhythm\, ride-outs\, and real D.C. love.
URL:https://hstreet.org/event/second-saturdays-on-h-the-chocolate-city-experience-wheels-up-block-party-2/
LOCATION:1207 H Street NE\, Washington\, DC\, 20002
CATEGORIES:Events
ATTACH;FMTTYPE=image/png:https://hstreet.org/wp-content/uploads/2025/07/Website-Event-Calendar-2.png
END:VEVENT
END:VCALENDAR