BEGIN:VCALENDAR
VERSION:2.0
PRODID:-// - ECPv6.15.20//NONSGML v1.0//EN
CALSCALE:GREGORIAN
METHOD:PUBLISH
X-ORIGINAL-URL:https://hstreet.org
X-WR-CALDESC:Events for 
REFRESH-INTERVAL;VALUE=DURATION:PT1H
X-Robots-Tag:noindex
X-PUBLISHED-TTL:PT1H
BEGIN:VTIMEZONE
TZID:UTC
BEGIN:STANDARD
TZOFFSETFROM:+0000
TZOFFSETTO:+0000
TZNAME:UTC
DTSTART:20240101T000000
END:STANDARD
END:VTIMEZONE
BEGIN:VEVENT
DTSTART;TZID=UTC:20250712T180000
DTEND;TZID=UTC:20250712T220000
DTSTAMP:20260421T120426
CREATED:20250711T010520Z
LAST-MODIFIED:20250809T031607Z
UID:10000164-1752343200-1752357600@hstreet.org
SUMMARY:Second Saturdays on H: The Chocolate City Experience – Wheels Up Block Party
DESCRIPTION:Get ready to ride\, roll\, and revel in the heart of the District! This month’s Second Saturdays on H is bringing you “The Chocolate City Experience: Wheels Up Block Party” — an unforgettable celebration of culture\, community\, and cool rides. \nFeel the rhythm of live DJs spinning go-go\, funk\, and classic D.C. vibes. Lace up your skates and roll into the groove with roller skating zones\, or feast your eyes on a stunning lineup of vintage cars\, custom bikes\, and Harley Davidsons that will take over the avenue. Don’t miss the crowd-pleasing Double Dutch performances\, high-energy bike crews\, and immersive art projections that light up the night. \nParticipating H Street businesses will be offering exclusive promotions and specials\, so come early\, stay late\, and explore all the delicious food\, funky fashion\, and soulful surprises the corridor has to offer. \nPull up with your wheels\, bring the fam\, invite your crew\, and let’s celebrate Chocolate City style\, full of rhythm\, ride-outs\, and real community joy. Wheels up\, H Street!
URL:https://hstreet.org/event/second-saturdays-on-h-the-chocolate-city-experience-wheels-up-block-party/
LOCATION:1207 H Street NE\, Washington\, DC\, 20002
CATEGORIES:Events
ATTACH;FMTTYPE=image/png:https://hstreet.org/wp-content/uploads/2025/07/The-Chocolate-City-Experience-Cal.png
ORGANIZER;CN="H Street Main Street":MAILTO:info@hstreet.org
END:VEVENT
END:VCALENDAR