BEGIN:VCALENDAR
VERSION:2.0
PRODID:-// - ECPv6.15.20//NONSGML v1.0//EN
CALSCALE:GREGORIAN
METHOD:PUBLISH
X-ORIGINAL-URL:https://hstreet.org
X-WR-CALDESC:Events for 
REFRESH-INTERVAL;VALUE=DURATION:PT1H
X-Robots-Tag:noindex
X-PUBLISHED-TTL:PT1H
BEGIN:VTIMEZONE
TZID:UTC
BEGIN:STANDARD
TZOFFSETFROM:+0000
TZOFFSETTO:+0000
TZNAME:UTC
DTSTART:20240101T000000
END:STANDARD
END:VTIMEZONE
BEGIN:VEVENT
DTSTART;TZID=UTC:20250206T120000
DTEND;TZID=UTC:20250206T133000
DTSTAMP:20260421T101803
CREATED:20250201T190329Z
LAST-MODIFIED:20250201T190329Z
UID:10000086-1738843200-1738848600@hstreet.org
SUMMARY:Top IP Mistakes of Startups and How to Avoid Them
DESCRIPTION:Do you know how to protect your startup’s intellectual property? \nA little bit of foresight and intellectual property (IP) knowledge can go a long way to prevent mistakes and help your startup thrive. In this webinar\, learn about the most common mistakes entrepreneurs make and how to set yourself up to avoid them. \nTopics covered: \n\nWhen and how to protect your startup’s intellectual property\nHow to create an IP strategy on a lean budget\nHow to use a lawyer efficiently
URL:https://hstreet.org/event/top-ip-mistakes-of-startups-and-how-to-avoid-them/
LOCATION:Virtual
CATEGORIES:Workshops/Training
ATTACH;FMTTYPE=image/png:https://hstreet.org/wp-content/uploads/2025/02/Top-IP-Mistakes-of-Startups.png
ORGANIZER;CN="Score Washington DC":MAILTO:mid-atlantic@scorevolunteer.org
END:VEVENT
END:VCALENDAR