BEGIN:VCALENDAR
VERSION:2.0
PRODID:-// - ECPv6.15.20//NONSGML v1.0//EN
CALSCALE:GREGORIAN
METHOD:PUBLISH
X-ORIGINAL-URL:https://hstreet.org
X-WR-CALDESC:Events for 
REFRESH-INTERVAL;VALUE=DURATION:PT1H
X-Robots-Tag:noindex
X-PUBLISHED-TTL:PT1H
BEGIN:VTIMEZONE
TZID:UTC
BEGIN:STANDARD
TZOFFSETFROM:+0000
TZOFFSETTO:+0000
TZNAME:UTC
DTSTART:20240101T000000
END:STANDARD
END:VTIMEZONE
BEGIN:VEVENT
DTSTART;TZID=UTC:20250204T000000
DTEND;TZID=UTC:20250204T133000
DTSTAMP:20260421T084807
CREATED:20250201T185431Z
LAST-MODIFIED:20250201T185431Z
UID:10000084-1738627200-1738675800@hstreet.org
SUMMARY:Cash Flow Management Basics
DESCRIPTION:Understanding cash flow is crucial for your business. You must monitor cash flow constantly to make sure your checking account always has a positive balance and that you’re bringing in more cash than you’re spending. If not\, you need to revise your plans. \nIn this free webinar\, we will describe cash flow\, its importance\, and review a model to predict cash flow\, covering the following topics: \n\nReview what is cash flow and its impact on business\nDiscuss the main reasons for cash flow problems\nDescribe management actions to improve cash flow\nPresent a simple model to forecast cash flow
URL:https://hstreet.org/event/cash-flow-management-basics/
LOCATION:Virtual
CATEGORIES:Business Financing,Workshops/Training
ATTACH;FMTTYPE=image/png:https://hstreet.org/wp-content/uploads/2025/02/Cash-Flow-Management-Basics.png
ORGANIZER;CN="Score Washington DC":MAILTO:mid-atlantic@scorevolunteer.org
END:VEVENT
END:VCALENDAR