BEGIN:VCALENDAR
VERSION:2.0
PRODID:-// - ECPv6.15.20//NONSGML v1.0//EN
CALSCALE:GREGORIAN
METHOD:PUBLISH
X-ORIGINAL-URL:https://hstreet.org
X-WR-CALDESC:Events for 
REFRESH-INTERVAL;VALUE=DURATION:PT1H
X-Robots-Tag:noindex
X-PUBLISHED-TTL:PT1H
BEGIN:VTIMEZONE
TZID:UTC
BEGIN:STANDARD
TZOFFSETFROM:+0000
TZOFFSETTO:+0000
TZNAME:UTC
DTSTART:20240101T000000
END:STANDARD
END:VTIMEZONE
BEGIN:VEVENT
DTSTART;TZID=UTC:20250113T120000
DTEND;TZID=UTC:20250113T130000
DTSTAMP:20260419T133309
CREATED:20241201T181014Z
LAST-MODIFIED:20241201T181014Z
UID:10000068-1736769600-1736773200@hstreet.org
SUMMARY:ADA and Website Accessibility: Why It Matters and What Everyone Needs to Know
DESCRIPTION:Learn how to make sure your website is accessible to people with disabilities and the seven top accessibility issues. Bonus: Free automated website audit and 30-minute consultation with certified accessibility expert to webinar attendees. \nSpeaker(s): Ms. Kim Greenfield Alfonso\, Co-Founder & CEO\, Results One LLC\, https://resultsonellc.com/ \nCo-Sponsor(s): The webinar login will be provided to registrants the day of the webinar.
URL:https://hstreet.org/event/ada-and-website-accessibility-why-it-matters-and-what-everyone-needs-to-know/
LOCATION:Online
CATEGORIES:Workshops/Training
ATTACH;FMTTYPE=image/png:https://hstreet.org/wp-content/uploads/2024/11/SBDC.png
ORGANIZER;CN="DC Small Business Development Center":MAILTO:robin.cole@howard.edu
END:VEVENT
END:VCALENDAR